BEGIN:VCALENDAR
VERSION:2.0
PRODID:-//Verdadeiro Olhar - ECPv5.8.0//NONSGML v1.0//EN
CALSCALE:GREGORIAN
METHOD:PUBLISH
X-WR-CALNAME:Verdadeiro Olhar
X-ORIGINAL-URL:https://www.verdadeiroolhar.pt
X-WR-CALDESC:Events for Verdadeiro Olhar
BEGIN:VTIMEZONE
TZID:UTC
BEGIN:STANDARD
TZOFFSETFROM:+0000
TZOFFSETTO:+0000
TZNAME:UTC
DTSTART:20160101T000000
END:STANDARD
END:VTIMEZONE
BEGIN:VEVENT
DTSTART;TZID=UTC:20161009T090000
DTEND;TZID=UTC:20161009T190000
DTSTAMP:20260425T103940
CREATED:20161004T132539Z
LAST-MODIFIED:20161004T132539Z
UID:14007-1476003600-1476039600@www.verdadeiroolhar.pt
SUMMARY:Feira de Antiguidades\, Coleccionismo e Velharias
DESCRIPTION:No domingo\, dia 9\, tem lugar mais uma Feira de Antiguidades\, Coleccionismo e Velharias de Lousada. \nEntre as 9h00 e as 19h00\, a Avenida Senhor dos Aflitos enche-se de compradores e vendedores que procuram produtos únicos.
URL:https://www.verdadeiroolhar.pt/evento/feira-antiguidades-coleccionismo-velharias/
LOCATION:Avenida do Senhor dos Aflitos\, Avenida do Senhor dos Aflitos\, Lousada\, Portugal
CATEGORIES:Eventos Públicos
ATTACH;FMTTYPE=image/jpeg:https://www.verdadeiroolhar.pt/wp-content/uploads/2016/09/Feira-Antiguidades-e1485787947743.jpg
END:VEVENT
END:VCALENDAR