BEGIN:VCALENDAR
VERSION:2.0
PRODID:-//Verdadeiro Olhar - ECPv5.8.0//NONSGML v1.0//EN
CALSCALE:GREGORIAN
METHOD:PUBLISH
X-WR-CALNAME:Verdadeiro Olhar
X-ORIGINAL-URL:https://www.verdadeiroolhar.pt
X-WR-CALDESC:Events for Verdadeiro Olhar
BEGIN:VTIMEZONE
TZID:UTC
BEGIN:STANDARD
TZOFFSETFROM:+0000
TZOFFSETTO:+0000
TZNAME:UTC
DTSTART:20160101T000000
END:STANDARD
END:VTIMEZONE
BEGIN:VEVENT
DTSTART;TZID=UTC:20160911T090000
DTEND;TZID=UTC:20160911T180000
DTSTAMP:20260424T113826
CREATED:20160906T162101Z
LAST-MODIFIED:20160906T162101Z
UID:12913-1473584400-1473616800@www.verdadeiroolhar.pt
SUMMARY:Feira de Antiguidades\, Coleccionismo e Velharias de Lousada
DESCRIPTION:No domingo\, dia 11 de Setembro\, a Avenida do Senhor dos Aflitos será palco de mais uma Feira de Antiguidades\, Coleccionismo e Velharias.
URL:https://www.verdadeiroolhar.pt/evento/feira-antiguidades-coleccionismo-velharias-lousada/
LOCATION:Avenida do Senhor dos Aflitos\, Avenida do Senhor dos Aflitos\, Lousada\, Portugal
CATEGORIES:Eventos Públicos
ATTACH;FMTTYPE=image/jpeg:https://www.verdadeiroolhar.pt/wp-content/uploads/2016/09/Feira-Antiguidades-e1485787947743.jpg
END:VEVENT
END:VCALENDAR