BEGIN:VCALENDAR
VERSION:2.0
PRODID:-//Verdadeiro Olhar - ECPv5.8.0//NONSGML v1.0//EN
CALSCALE:GREGORIAN
METHOD:PUBLISH
X-WR-CALNAME:Verdadeiro Olhar
X-ORIGINAL-URL:https://www.verdadeiroolhar.pt
X-WR-CALDESC:Events for Verdadeiro Olhar
BEGIN:VTIMEZONE
TZID:UTC
BEGIN:STANDARD
TZOFFSETFROM:+0000
TZOFFSETTO:+0000
TZNAME:UTC
DTSTART:20170101T000000
END:STANDARD
END:VTIMEZONE
BEGIN:VEVENT
DTSTART;TZID=UTC:20170312T090000
DTEND;TZID=UTC:20170312T190000
DTSTAMP:20260425T102641
CREATED:20170307T150705Z
LAST-MODIFIED:20170307T150705Z
UID:18547-1489309200-1489345200@www.verdadeiroolhar.pt
SUMMARY:Feira de Antiguidades\, Coleccionismo e Velharias de Lousada
DESCRIPTION:No dia 12\, domingo\, entre as 9h00 e as 19h00\, vai ter lugar mais uma Feira de Antiguidades\, Coleccionismo e Velharias de Lousada. Tal como é habitual realiza-se na Avenida Senhor dos Aflitos.
URL:https://www.verdadeiroolhar.pt/evento/feira-antiguidades-coleccionismo-velharias-lousada-3/
LOCATION:Avenida do Senhor dos Aflitos\, Avenida do Senhor dos Aflitos\, Lousada\, Portugal
CATEGORIES:Eventos Públicos
ATTACH;FMTTYPE=image/jpeg:https://www.verdadeiroolhar.pt/wp-content/uploads/2017/03/Feira-de-Antiguidades.jpg
END:VEVENT
END:VCALENDAR