BEGIN:VCALENDAR
VERSION:2.0
PRODID:-//Verdadeiro Olhar - ECPv5.8.0//NONSGML v1.0//EN
CALSCALE:GREGORIAN
METHOD:PUBLISH
X-WR-CALNAME:Verdadeiro Olhar
X-ORIGINAL-URL:https://www.verdadeiroolhar.pt
X-WR-CALDESC:Events for Verdadeiro Olhar
BEGIN:VTIMEZONE
TZID:UTC
BEGIN:STANDARD
TZOFFSETFROM:+0000
TZOFFSETTO:+0000
TZNAME:UTC
DTSTART:20160101T000000
END:STANDARD
END:VTIMEZONE
BEGIN:VEVENT
DTSTART;TZID=UTC:20160109T093000
DTEND;TZID=UTC:20160129T180000
DTSTAMP:20260425T131106
CREATED:20160106T152816Z
LAST-MODIFIED:20160106T152816Z
UID:3441-1452331800-1454090400@www.verdadeiroolhar.pt
SUMMARY:Exposição de Pintura: “Eve and the bear”
DESCRIPTION:“Eve and the bear”\, de José Rosinhas. \nDe 9 a 29 – 9h30-12h00 / 13h30-18h00 (dias úteis)\nInauguração às 16h00.
URL:https://www.verdadeiroolhar.pt/evento/exposicao/
LOCATION:Biblioteca Municipal de Lousada\, Lousada
CATEGORIES:Cultura
END:VEVENT
END:VCALENDAR