BEGIN:VCALENDAR
VERSION:2.0
PRODID:-//Verdadeiro Olhar - ECPv5.8.0//NONSGML v1.0//EN
CALSCALE:GREGORIAN
METHOD:PUBLISH
X-WR-CALNAME:Verdadeiro Olhar
X-ORIGINAL-URL:https://www.verdadeiroolhar.pt
X-WR-CALDESC:Events for Verdadeiro Olhar
BEGIN:VTIMEZONE
TZID:UTC
BEGIN:STANDARD
TZOFFSETFROM:+0000
TZOFFSETTO:+0000
TZNAME:UTC
DTSTART:20170101T000000
END:STANDARD
END:VTIMEZONE
BEGIN:VEVENT
DTSTART;VALUE=DATE:20171130
DTEND;VALUE=DATE:20180106
DTSTAMP:20260421T192158
CREATED:20171129T110914Z
LAST-MODIFIED:20171204T114904Z
UID:31453-1512000000-1515196799@www.verdadeiroolhar.pt
SUMMARY:Exposição de presépios no Museu de Valongo
DESCRIPTION:Entre 30 de Novembro e 5 de Janeiro vai decorrer uma exposição e venda de presépios no Museu Municipal de Valongo. \nA mostra pode ser visitada entre as 9h00 e as 12h30 e as 14h00 e as 17h30. Nos domingos 3\, 10 e 17 de Dezembro a exposição pode ser vista entre as 15h00 e as 18h00. \nEstão expostos mais de 500 presépios nos mais variados formatos\, cores e materiais. \nEstarão presentes peças dos coleccionadores Susana Franqueiro e José Costa e dos artesãos Andreia Rocha\, Augusta Barbosa\, António Magalhães\, Clarisse Lopes\, Francisca Araújo\, Idalina Cunha\, Inês Sousa\, Joaquim Carvalho\, José Carvalho\, Maria do Carmo Guimarães\, Maria João Gonçalves\, Miguel Pereira\, Sónia Cunha e dos alunos da disciplina Artes da Ardósia da Escola EB 2.3 Vallis Longus.
URL:https://www.verdadeiroolhar.pt/evento/exposicao-presepios-museu-valongo/
LOCATION:Museu Municipal de Valongo\, Rua São Mamede \, Valongo\, 4440-597\, Portugal
CATEGORIES:Cultura
ATTACH;FMTTYPE=image/jpeg:https://www.verdadeiroolhar.pt/wp-content/uploads/2017/11/Exposição-Presépios.jpg
END:VEVENT
END:VCALENDAR