BEGIN:VCALENDAR
VERSION:2.0
PRODID:-//Verdadeiro Olhar - ECPv5.8.0//NONSGML v1.0//EN
CALSCALE:GREGORIAN
METHOD:PUBLISH
X-WR-CALNAME:Verdadeiro Olhar
X-ORIGINAL-URL:https://www.verdadeiroolhar.pt
X-WR-CALDESC:Events for Verdadeiro Olhar
BEGIN:VTIMEZONE
TZID:UTC
BEGIN:STANDARD
TZOFFSETFROM:+0000
TZOFFSETTO:+0000
TZNAME:UTC
DTSTART:20180101T000000
END:STANDARD
END:VTIMEZONE
BEGIN:VEVENT
DTSTART;VALUE=DATE:20180609
DTEND;VALUE=DATE:20180624
DTSTAMP:20260426T001213
CREATED:20180604T135430Z
LAST-MODIFIED:20180604T135430Z
UID:42297-1528502400-1529798399@www.verdadeiroolhar.pt
SUMMARY:Exposição de Pintura "A Expressão dos nossos Sentimentos"
DESCRIPTION:A Casa da Cultura de Paredes vai ser palco da exposição de pintura “A Expressão dos nossos Sentimentos”\, promovida pela Câmara Municipal de Paredes e a Universidade Sénior do Rotary de Paredes. \nA inauguração acontece no dia 9 de Junho\, pelas 16h00. A mostra mantém-se até ao dia 23 de Junho. \nContará com obras de Abílio Almeida; Acácia Osório; Albertina Almeida; Cinda Silva; Dina Pinheiro; Fátima Leitão; Ilda Ribeiro; Margarida Barros; Maria Daniel; Migá Barros; Odília Rocha; Vitória Figueiredo.
URL:https://www.verdadeiroolhar.pt/evento/exposicao-pintura-expressao-dos-sentimentos/
LOCATION:Casa da Cultura de Paredes\, Avenida da República\, Paredes\, 4580-193
CATEGORIES:Cultura
ATTACH;FMTTYPE=image/jpeg:https://www.verdadeiroolhar.pt/wp-content/uploads/2018/06/exposicao.jpg
END:VEVENT
END:VCALENDAR