BEGIN:VCALENDAR
VERSION:2.0
PRODID:-//Verdadeiro Olhar - ECPv5.8.0//NONSGML v1.0//EN
CALSCALE:GREGORIAN
METHOD:PUBLISH
X-WR-CALNAME:Verdadeiro Olhar
X-ORIGINAL-URL:https://www.verdadeiroolhar.pt
X-WR-CALDESC:Events for Verdadeiro Olhar
BEGIN:VTIMEZONE
TZID:UTC
BEGIN:STANDARD
TZOFFSETFROM:+0000
TZOFFSETTO:+0000
TZNAME:UTC
DTSTART:20180101T000000
END:STANDARD
END:VTIMEZONE
BEGIN:VEVENT
DTSTART;VALUE=DATE:20180323
DTEND;VALUE=DATE:20180409
DTSTAMP:20260422T161121
CREATED:20180327T113618Z
LAST-MODIFIED:20180327T141324Z
UID:37733-1521763200-1523231999@www.verdadeiroolhar.pt
SUMMARY:Exposição de filigrana na Casa da Cultura e na Loja de Turismo
DESCRIPTION:A Casa da Cultura de Paredes e a Loja Interactiva de Turismo acolhem a Exposição de Pintura e Escultura de Jorge Nascimento e Ana Maria Barbosa\, de 23 de Março a 8 de Abril. \nA exposição destes artistas plásticos contará com a presença de trabalhos ligados à filigrana do Centro de Formação Profissional da Indústria de Ourivesaria e Relojoaria – CINDOR. \nJorge Nascimento é natural do Porto e Ana Maria Barbosa é natural de Castromil-Sobreira- Paredes.
URL:https://www.verdadeiroolhar.pt/evento/exposicao-filigrana-na-casa-da-cultura-na-loja-turismo/
LOCATION:Casa da Cultura de Paredes\, Avenida da República\, Paredes\, 4580-193
CATEGORIES:Cultura
ATTACH;FMTTYPE=image/jpeg:https://www.verdadeiroolhar.pt/wp-content/uploads/2018/03/Exposição-2.jpg
END:VEVENT
END:VCALENDAR