BEGIN:VCALENDAR
VERSION:2.0
PRODID:-//Verdadeiro Olhar - ECPv5.8.0//NONSGML v1.0//EN
CALSCALE:GREGORIAN
METHOD:PUBLISH
X-WR-CALNAME:Verdadeiro Olhar
X-ORIGINAL-URL:https://www.verdadeiroolhar.pt
X-WR-CALDESC:Events for Verdadeiro Olhar
BEGIN:VTIMEZONE
TZID:UTC
BEGIN:STANDARD
TZOFFSETFROM:+0000
TZOFFSETTO:+0000
TZNAME:UTC
DTSTART:20180101T000000
END:STANDARD
END:VTIMEZONE
BEGIN:VEVENT
DTSTART;TZID=UTC:20180120T160000
DTEND;TZID=UTC:20180325T170000
DTSTAMP:20260422T062045
CREATED:20180119T153841Z
LAST-MODIFIED:20180119T153841Z
UID:33936-1516464000-1521997200@www.verdadeiroolhar.pt
SUMMARY:Exposição "A Dois Olhares" no Fórum Cultural de Ermesinde
DESCRIPTION:A Galeria Museológica do Fórum Cultural de Ermesinde recebe\, a partir do dia 20 de Janeiro\, pelas 16h00\, até ao dia 25 de Março\, a exposição de pintura e escultura “A Dois Olhares”\, da valonguense Maria André.
URL:https://www.verdadeiroolhar.pt/evento/exposicao-dois-olhares-no-forum-cultural-ermesinde/
LOCATION:Fórum Cultural de Ermesinde\, Rua Fábrica da Cerâmica\, Valongo
CATEGORIES:Cultura
ATTACH;FMTTYPE=image/jpeg:https://www.verdadeiroolhar.pt/wp-content/uploads/2018/01/Exposição.jpg
END:VEVENT
END:VCALENDAR