BEGIN:VCALENDAR
VERSION:2.0
PRODID:-//Verdadeiro Olhar - ECPv5.8.0//NONSGML v1.0//EN
CALSCALE:GREGORIAN
METHOD:PUBLISH
X-WR-CALNAME:Verdadeiro Olhar
X-ORIGINAL-URL:https://www.verdadeiroolhar.pt
X-WR-CALDESC:Events for Verdadeiro Olhar
BEGIN:VTIMEZONE
TZID:UTC
BEGIN:STANDARD
TZOFFSETFROM:+0000
TZOFFSETTO:+0000
TZNAME:UTC
DTSTART:20160101T000000
END:STANDARD
END:VTIMEZONE
BEGIN:VEVENT
DTSTART;VALUE=DATE:20160708
DTEND;VALUE=DATE:20160801
DTSTAMP:20260422T182946
CREATED:20160630T171849Z
LAST-MODIFIED:20160630T172717Z
UID:10847-1467936000-1470009599@www.verdadeiroolhar.pt
SUMMARY:Exposição documental sobre Padre Américo
DESCRIPTION:Na sexta-feira\, dia 8\, é inaugurada\, às 21h00\, a exposição documental sobre o Padre Américo\, que permanecerá ao longo de todo o mês\, na Biblioteca Municipal de Penafiel.  \n 
URL:https://www.verdadeiroolhar.pt/evento/exposicao-documental-padre-americo/
LOCATION:Biblioteca Municipal de Penafiel\, Avenida Egas Moniz\, Penafiel\, Portugal
CATEGORIES:Cultura
ATTACH;FMTTYPE=image/png:https://www.verdadeiroolhar.pt/wp-content/uploads/2016/06/ExpDocumentalPadreAmerico-e1467307093978.png
END:VEVENT
END:VCALENDAR