BEGIN:VCALENDAR
VERSION:2.0
PRODID:-//Verdadeiro Olhar - ECPv5.8.0//NONSGML v1.0//EN
CALSCALE:GREGORIAN
METHOD:PUBLISH
X-WR-CALNAME:Verdadeiro Olhar
X-ORIGINAL-URL:https://www.verdadeiroolhar.pt
X-WR-CALDESC:Events for Verdadeiro Olhar
BEGIN:VTIMEZONE
TZID:UTC
BEGIN:STANDARD
TZOFFSETFROM:+0000
TZOFFSETTO:+0000
TZNAME:UTC
DTSTART:20160101T000000
END:STANDARD
END:VTIMEZONE
BEGIN:VEVENT
DTSTART;TZID=UTC:20160110T090000
DTEND;TZID=UTC:20160110T180000
DTSTAMP:20260425T165743
CREATED:20160106T152404Z
LAST-MODIFIED:20160106T182944Z
UID:3435-1452416400-1452448800@www.verdadeiroolhar.pt
SUMMARY:Feira de Antiguidades\, Coleccionismo e Velharias
DESCRIPTION:
URL:https://www.verdadeiroolhar.pt/evento/exposicao-de-pintura-eve-and-the-bear/
LOCATION:Avenida do Senhor dos Aflitos\, Avenida do Senhor dos Aflitos\, Lousada\, Portugal
CATEGORIES:Cultura
END:VEVENT
END:VCALENDAR