BEGIN:VCALENDAR
VERSION:2.0
PRODID:-//Verdadeiro Olhar - ECPv5.8.0//NONSGML v1.0//EN
CALSCALE:GREGORIAN
METHOD:PUBLISH
X-WR-CALNAME:Verdadeiro Olhar
X-ORIGINAL-URL:https://www.verdadeiroolhar.pt
X-WR-CALDESC:Events for Verdadeiro Olhar
BEGIN:VTIMEZONE
TZID:UTC
BEGIN:STANDARD
TZOFFSETFROM:+0000
TZOFFSETTO:+0000
TZNAME:UTC
DTSTART:20180101T000000
END:STANDARD
END:VTIMEZONE
BEGIN:VEVENT
DTSTART;VALUE=DATE:20180403
DTEND;VALUE=DATE:20180505
DTSTAMP:20260423T012255
CREATED:20180329T103510Z
LAST-MODIFIED:20180329T103510Z
UID:37957-1522713600-1525478399@www.verdadeiroolhar.pt
SUMMARY:Exposição colectiva de Artes Plásticas em Paredes
DESCRIPTION:Entre os dias 3 de Abril a 4 de Maio\, a Loja Interactiva de Turismo de Paredes vai acolher uma exposição colectiva de “Artes Plásticas” com trabalhos dos artistas paredenses\, Margarida Silva e António Alberto. \nMargarida Silva e António Alberto residem no concelho de Paredes e têm vindo a colaborar noutros projectos realizados no concelho. Os artistas resolveram juntar-se e fazer uma exposição conjunta onde misturam as suas experiências\, refere a autarquia. \n“Margarida Silva – “Marfim Silva” tem 18 anos\, estuda design gráfico na ESAD e frequentou a Escola Artística Soares dos Reis. Apaixonada por pintura e fotografia\, Margarida Silva é grande apreciadora de ilustração. \nAntónio Alberto – “Bertoni” é pintor de artes plásticas\, 58 anos\, autodidacta e vencedor do prémio de pintura Agro 71 em Braga\, em representação do distrito do Porto.
URL:https://www.verdadeiroolhar.pt/evento/exposicao-colectiva-artes-plasticas-paredes/
LOCATION:Loja Interativa de Turismo de Paredes\, Loja da Estação\, 227\, Paredes
CATEGORIES:Cultura
ATTACH;FMTTYPE=image/jpeg:https://www.verdadeiroolhar.pt/wp-content/uploads/2018/03/Exposição-3.jpg
END:VEVENT
END:VCALENDAR