BEGIN:VCALENDAR
VERSION:2.0
PRODID:-//Verdadeiro Olhar - ECPv5.8.0//NONSGML v1.0//EN
CALSCALE:GREGORIAN
METHOD:PUBLISH
X-WR-CALNAME:Verdadeiro Olhar
X-ORIGINAL-URL:https://www.verdadeiroolhar.pt
X-WR-CALDESC:Events for Verdadeiro Olhar
BEGIN:VTIMEZONE
TZID:UTC
BEGIN:STANDARD
TZOFFSETFROM:+0000
TZOFFSETTO:+0000
TZNAME:UTC
DTSTART:20180101T000000
END:STANDARD
END:VTIMEZONE
BEGIN:VEVENT
DTSTART;VALUE=DATE:20180308
DTEND;VALUE=DATE:20180401
DTSTAMP:20260421T175021
CREATED:20180306T154935Z
LAST-MODIFIED:20180306T154935Z
UID:36377-1520467200-1522540799@www.verdadeiroolhar.pt
SUMMARY:Exposição "A Mulher" na Biblioteca de Valongo
DESCRIPTION:A Biblioteca Municipal de Valongo associa-se às comemorações do Dia Internacional da Mulher com a inauguração da exposição “A Mulher”\, de Isaura Xavier. \nEsta mostra\, composta por várias obras alusivas à figura da Mulher\, nas suas mais variadas vertentes\, será inaugurada no dia 8 de Março\, pelas 15h00\, e estará patente ao público até ao dia 31 de Março. Nesse dia haverá um momento de poesia com declamação de poemas sobre a mulher por alguns autores do concelho. \nIsaura Xavier nasceu no Porto\, em 1947. Licenciou-se em Filologia Germânica pela Faculdade de Letras de Lisboa\, tendo leccionado Inglês às crianças e adultos durante 35 anos\, nomeadamente\, na Escola Básica de São Lourenço\, em Ermesinde. Começou a desenhar desde tenra idade e aprendeu as técnicas da pintura a óleo em 1976\, com dois mestres do Porto a quem muito deve. \nSegundo a Câmara de Valongo\, tem mostrado a sua obra desde 1986\, quer colectiva\, quer individualmente\, em Portugal e no estrangeiro. Os seus quadros fazem parte de inúmeras colecções particulares. Os seus temas favoritos são a paisagem\, a cultura\, as tradições\, as pessoas\, a poesia existente em tudo que nos rodeia. \nA entrada é gratuita.
URL:https://www.verdadeiroolhar.pt/evento/exposicao-a-mulher-na-biblioteca-de-valongo/
LOCATION:Biblioteca Municipal de Valongo\, Avenida do Conhecimento\, Valongo\, 4440-238
CATEGORIES:Cultura
ATTACH;FMTTYPE=image/jpeg:https://www.verdadeiroolhar.pt/wp-content/uploads/2018/03/Exposição.jpg
END:VEVENT
END:VCALENDAR