BEGIN:VCALENDAR
VERSION:2.0
PRODID:-//Verdadeiro Olhar - ECPv5.8.0//NONSGML v1.0//EN
CALSCALE:GREGORIAN
METHOD:PUBLISH
X-WR-CALNAME:Verdadeiro Olhar
X-ORIGINAL-URL:https://www.verdadeiroolhar.pt
X-WR-CALDESC:Events for Verdadeiro Olhar
BEGIN:VTIMEZONE
TZID:UTC
BEGIN:STANDARD
TZOFFSETFROM:+0000
TZOFFSETTO:+0000
TZNAME:UTC
DTSTART:20170101T000000
END:STANDARD
END:VTIMEZONE
BEGIN:VEVENT
DTSTART;VALUE=DATE:20171214
DTEND;VALUE=DATE:20171218
DTSTAMP:20260422T135137
CREATED:20171120T161325Z
LAST-MODIFIED:20171120T161325Z
UID:30988-1513209600-1513555199@www.verdadeiroolhar.pt
SUMMARY:Espectáculo Vaiana em Patins em Paredes
DESCRIPTION:Passado na Polinésia há dois mil anos\, “Vaiana” é a história de uma princesa adolescente\, filha do chefe de uma tribo\, que vive feliz numa ilha paradisíaca. \nQuando a existência do seu povo é ameaçada por uma força maléfica ancestral\, Vaiana\, “escolhida” pelo oceano para conseguir grandes feitos\, desafia as ordens do pai de não navegar para lá do recife de coral\, e de posse de uma jóia mágica\, o Coração de Te Fiti\, vai à procura do semi-deus Maui\, que a roubou originalmente à deusa do mesmo nome\, para que ele ajude a devolvê-la e tudo volte ao normal. \n“A Associação Desportiva de Paredes Patinagem Artística conta com todos os seus atletas\, entre os quais os campeões distritais\, nacionais e mundiais\, para nesta época festiva apresentar um espectáculo de sonho e muito brilho no município de Paredes”\, diz a ADPA. \nOs espectáculos terão lugar nos dias 14\, 15\, 16 e 17 de Dezembro\, no Pavilhão Rota dos Móveis\, em Lordelo. \nOs bilhetes custam cinco euros e podem ser adquiridos no Pavilhão Rota dos Móveis\, no Gabinete dos Serviços Sociais da Câmara de Paredes\, na Junta Freguesia de Rebordosa\, na Junta Freguesia de Lordelo\, na Junta Freguesia de Cete e junto dos dirigentes e pais dos atletas da ADPA. \nHorário das sessões:\nDia 14 – destinado às escolas\nDia 15 – destinado às escolas\nDia 16 – 21h00\nDia 17 – 16h00
URL:https://www.verdadeiroolhar.pt/evento/espectaculo-vaiana-patins-paredes/
LOCATION:Pavilhão Rota dos Móveis\, Lordelo
CATEGORIES:Desporto,Eventos Públicos
ATTACH;FMTTYPE=image/jpeg:https://www.verdadeiroolhar.pt/wp-content/uploads/2017/11/Vaiana.jpg
ORGANIZER;CN="Associa%C3%A7%C3%A3o%20Desportiva%20de%20Paredes%20-%20Patinagem%20Art%C3%ADstica":MAILTO:adpa.direcao@gmail.com / adpa.secretariado@gmail.com
END:VEVENT
END:VCALENDAR