BEGIN:VCALENDAR
VERSION:2.0
PRODID:-//Verdadeiro Olhar - ECPv5.8.0//NONSGML v1.0//EN
CALSCALE:GREGORIAN
METHOD:PUBLISH
X-WR-CALNAME:Verdadeiro Olhar
X-ORIGINAL-URL:https://www.verdadeiroolhar.pt
X-WR-CALDESC:Events for Verdadeiro Olhar
BEGIN:VTIMEZONE
TZID:UTC
BEGIN:STANDARD
TZOFFSETFROM:+0000
TZOFFSETTO:+0000
TZNAME:UTC
DTSTART:20170101T000000
END:STANDARD
END:VTIMEZONE
BEGIN:VEVENT
DTSTART;TZID=UTC:20170429T213000
DTEND;TZID=UTC:20170429T233000
DTSTAMP:20260423T221303
CREATED:20170419T113527Z
LAST-MODIFIED:20170419T113527Z
UID:19891-1493501400-1493508600@www.verdadeiroolhar.pt
SUMMARY:Espectáculo de Circo na A LORD
DESCRIPTION:O Auditório da Fundação A Lord recebe\, no dia 29 de Abril\, pelas 21h30\, o espectáculo de circo “Susceptível ao Elogio” pela Companhia Umpor1. \nA entrada é livre\, havendo reserva de bilhetes até ao limite da lotação da sala.
URL:https://www.verdadeiroolhar.pt/evento/espectaculo-circo-na-lord/
LOCATION:Fundação A LORD\, Rua da Cooperativa\, 27\, Lordelo\, Paredes\, 4580-809
CATEGORIES:Cultura
ATTACH;FMTTYPE=image/jpeg:https://www.verdadeiroolhar.pt/wp-content/uploads/2017/04/Circo-1.jpg
END:VEVENT
END:VCALENDAR