BEGIN:VCALENDAR
VERSION:2.0
PRODID:-//Verdadeiro Olhar - ECPv5.8.0//NONSGML v1.0//EN
CALSCALE:GREGORIAN
METHOD:PUBLISH
X-WR-CALNAME:Verdadeiro Olhar
X-ORIGINAL-URL:https://www.verdadeiroolhar.pt
X-WR-CALDESC:Events for Verdadeiro Olhar
BEGIN:VTIMEZONE
TZID:UTC
BEGIN:STANDARD
TZOFFSETFROM:+0000
TZOFFSETTO:+0000
TZNAME:UTC
DTSTART:20180101T000000
END:STANDARD
END:VTIMEZONE
BEGIN:VEVENT
DTSTART;VALUE=DATE:20180420
DTEND;VALUE=DATE:20180520
DTSTAMP:20260423T202606
CREATED:20180409T115346Z
LAST-MODIFIED:20180409T115346Z
UID:38558-1524182400-1526774399@www.verdadeiroolhar.pt
SUMMARY:Entalhador de Paços de Ferreira expõe no Museu Municipal
DESCRIPTION:Entre 20 de Abril e 19 de Maio\, o Museu Municipal – Museu do Móvel\, em Paços de Ferreira\, acolhe uma exposição com o trabalho do entalhador pacense Júlio Leal. \nNascido em 1963\, Júlio Campos Leal nasci a 18 de Janeiro de 1963 é um entalhador/ escultor de Meixomil que começou a trabalhar na arte aos 14 anos. \nEstabeleceu-se por conta própria em 1989 e tem uma oficina onde desenha e executa trabalhos de arte sacra\, talha\, restauro\, altares e escultura. Há cerca de 10 anos\, começou ainda a trabalhar com designers e criadores de mobiliário e executa peças de alta gama destinadas a segmentos de mercado superiores e/ou a ser aplicadas em móveis de design contemporâneo e vanguardista. \nTem trabalhos espalhados por locais como Madrid\, Paris\, Milão\, Dubai\, Arábia Saudita e Estados Unidos da América.
URL:https://www.verdadeiroolhar.pt/evento/entalhador-pacos-ferreira-expoe-no-museu-municipal/
LOCATION:Museu Municipal do Móvel\, Praça Dr. Luís\, Paços de Ferreira\, Portugal
CATEGORIES:Cultura
ATTACH;FMTTYPE=image/jpeg:https://www.verdadeiroolhar.pt/wp-content/uploads/2018/04/30581670_787343154795933_929236085957984256_n.jpg
END:VEVENT
END:VCALENDAR