BEGIN:VCALENDAR
VERSION:2.0
PRODID:-//Verdadeiro Olhar - ECPv5.8.0//NONSGML v1.0//EN
CALSCALE:GREGORIAN
METHOD:PUBLISH
X-WR-CALNAME:Verdadeiro Olhar
X-ORIGINAL-URL:https://www.verdadeiroolhar.pt
X-WR-CALDESC:Events for Verdadeiro Olhar
BEGIN:VTIMEZONE
TZID:UTC
BEGIN:STANDARD
TZOFFSETFROM:+0000
TZOFFSETTO:+0000
TZNAME:UTC
DTSTART:20170101T000000
END:STANDARD
END:VTIMEZONE
BEGIN:VEVENT
DTSTART;TZID=UTC:20170506T200000
DTEND;TZID=UTC:20170506T223000
DTSTAMP:20260422T041633
CREATED:20170502T161319Z
LAST-MODIFIED:20170502T161319Z
UID:20425-1494100800-1494109800@www.verdadeiroolhar.pt
SUMMARY:Encontro com o Fado de Coimbra
DESCRIPTION:No próximo dia 6 de Maio\, pelas 20h00\, o “À Bolina”\, no Porto\, recebe o jantar temático “Encontro com o Fado de Coimbra”. \nA iniciativa é organizada pela associação “Porto comSentido”\, constituída por três amigas – Ana (penafidelense)\, Isabel e Rute – \, unidas por laços perenes de amizade\, e por uma paixão comum pela paisagem granítica do Porto\, pela gastronomia\, pela música e pelas palavras. Têm como objectivo divulgar eventos e actividades culturais e promover lugares e autores da região\, através de tertúlias\, workshops de arte\, saraus\, actividades de lazer activo na natureza\, e convívios gastronómicos degustando os sabores fortes da gastronomia do Norte. \nEste jantar vai ser animado pelo Grupo de Fados de Coimbra  “A antiga Chama”\, composto por Mauro Magalhães\, Nuno Reis Pereira\, Pedro Reis e Ricardo Leitão (penafidelense).
URL:https://www.verdadeiroolhar.pt/evento/encontro-com-o-fado-de-coimbra/
LOCATION:Porto
CATEGORIES:Cultura
ATTACH;FMTTYPE=image/jpeg:https://www.verdadeiroolhar.pt/wp-content/uploads/2017/05/18056787_922498741225730_3650778987465543730_n.jpg
END:VEVENT
END:VCALENDAR