BEGIN:VCALENDAR
VERSION:2.0
PRODID:-//Verdadeiro Olhar - ECPv5.8.0//NONSGML v1.0//EN
CALSCALE:GREGORIAN
METHOD:PUBLISH
X-WR-CALNAME:Verdadeiro Olhar
X-ORIGINAL-URL:https://www.verdadeiroolhar.pt
X-WR-CALDESC:Events for Verdadeiro Olhar
BEGIN:VTIMEZONE
TZID:UTC
BEGIN:STANDARD
TZOFFSETFROM:+0000
TZOFFSETTO:+0000
TZNAME:UTC
DTSTART:20170101T000000
END:STANDARD
END:VTIMEZONE
BEGIN:VEVENT
DTSTART;VALUE=DATE:20170729
DTEND;VALUE=DATE:20170730
DTSTAMP:20260423T114713
CREATED:20170703T113325Z
LAST-MODIFIED:20170725T172523Z
UID:23716-1501286400-1501372799@www.verdadeiroolhar.pt
SUMMARY:Encontro de bicicletas antigas em Lousada
DESCRIPTION:No dia 29 de Julho\, a partir das 15h00\, a Avenida Senhor dos Aflitos vai acolher a VIII Concentração de “Pasteleiras”. \nNo sábado da Festa Grande\, com mais de 100 pessoas trajadas à época estas bicicletas antigas vão sair à rua e percorrer várias ruas da vila. \nNo Parque Urbano\, por volta das 17h30\, os participantes vão poder degustar um lanche tradicional. \nA organização é do Lousada BTT\, contando com o apoio da Câmara Municipal de Lousada e da Comissão de Festas. \nAs inscrições\, num valor de três euros\, que incluem seguro\, dorsal\, lembrança e lanche típico\, podem ser efectuadas através do site www.lousadabtt.net.
URL:https://www.verdadeiroolhar.pt/evento/encontro-bicicletas-antigas-lousada/
LOCATION:Avenida do Senhor dos Aflitos\, Avenida do Senhor dos Aflitos\, Lousada\, Portugal
CATEGORIES:Eventos Públicos
ATTACH;FMTTYPE=image/jpeg:https://www.verdadeiroolhar.pt/wp-content/uploads/2017/07/10471273_1529244540632314_86295626121373065_n.jpg
END:VEVENT
END:VCALENDAR