BEGIN:VCALENDAR
VERSION:2.0
PRODID:-//Verdadeiro Olhar - ECPv5.8.0//NONSGML v1.0//EN
CALSCALE:GREGORIAN
METHOD:PUBLISH
X-WR-CALNAME:Verdadeiro Olhar
X-ORIGINAL-URL:https://www.verdadeiroolhar.pt
X-WR-CALDESC:Events for Verdadeiro Olhar
BEGIN:VTIMEZONE
TZID:UTC
BEGIN:STANDARD
TZOFFSETFROM:+0000
TZOFFSETTO:+0000
TZNAME:UTC
DTSTART:20180101T000000
END:STANDARD
END:VTIMEZONE
BEGIN:VEVENT
DTSTART;TZID=UTC:20180420T210000
DTEND;TZID=UTC:20180420T230000
DTSTAMP:20260423T223211
CREATED:20180403T114641Z
LAST-MODIFIED:20180403T114641Z
UID:38132-1524258000-1524265200@www.verdadeiroolhar.pt
SUMMARY:Documentário "Outro País" na Biblioteca de Penafiel
DESCRIPTION:No dia 20 de Abril\, pelas 21h00\, o auditório da Biblioteca Municipal de Penafiel acolhe a exibição do documentário “Outro País”\, de Sérgio Tréfaut\, que aborda a temática do 25 de Abril. \nTrata-se do Melhor Documentário Português de 1999 no Golden Gate Award San Francisco Film Festival. \nA entrada é livre.
URL:https://www.verdadeiroolhar.pt/evento/documentario-pais-na-biblioteca-penafiel/
LOCATION:Biblioteca Municipal de Penafiel\, Avenida Egas Moniz\, Penafiel\, Portugal
CATEGORIES:Cultura
ATTACH;FMTTYPE=image/png:https://www.verdadeiroolhar.pt/wp-content/uploads/2018/04/DocumentarioOutroPais.png
END:VEVENT
END:VCALENDAR