BEGIN:VCALENDAR
VERSION:2.0
PRODID:-//Verdadeiro Olhar - ECPv5.8.0//NONSGML v1.0//EN
CALSCALE:GREGORIAN
METHOD:PUBLISH
X-WR-CALNAME:Verdadeiro Olhar
X-ORIGINAL-URL:https://www.verdadeiroolhar.pt
X-WR-CALDESC:Events for Verdadeiro Olhar
BEGIN:VTIMEZONE
TZID:UTC
BEGIN:STANDARD
TZOFFSETFROM:+0000
TZOFFSETTO:+0000
TZNAME:UTC
DTSTART:20180101T000000
END:STANDARD
END:VTIMEZONE
BEGIN:VEVENT
DTSTART;TZID=UTC:20180428T153000
DTEND;TZID=UTC:20180428T173000
DTSTAMP:20260424T120011
CREATED:20180423T115625Z
LAST-MODIFIED:20180423T115625Z
UID:39676-1524929400-1524936600@www.verdadeiroolhar.pt
SUMMARY:Dia Mundial do Livro no Auditório da Fundação A LORD
DESCRIPTION:No sábado\, dia 28 de Abril\, às 15h30\, o auditório da Fundação A LORD\, em Lordelo\, Paredes\, recebe uma iniciativa para comemorar o Dia Mundial do Livro. \nHaverá teatro\, a sessão solene de entrega de prémios de mérito escolar e a atribuição do Prémio Distinção A LORD a Ângelo Neto.
URL:https://www.verdadeiroolhar.pt/evento/dia-mundial-do-livro-no-auditorio-da-fundacao-lord/
LOCATION:Auditório da Fundação A LORD\, Lordelo
CATEGORIES:Cultura
ATTACH;FMTTYPE=image/jpeg:https://www.verdadeiroolhar.pt/wp-content/uploads/2018/04/cartaz.jpg
END:VEVENT
END:VCALENDAR