BEGIN:VCALENDAR
VERSION:2.0
PRODID:-//Verdadeiro Olhar - ECPv5.8.0//NONSGML v1.0//EN
CALSCALE:GREGORIAN
METHOD:PUBLISH
X-WR-CALNAME:Verdadeiro Olhar
X-ORIGINAL-URL:https://www.verdadeiroolhar.pt
X-WR-CALDESC:Events for Verdadeiro Olhar
BEGIN:VTIMEZONE
TZID:UTC
BEGIN:STANDARD
TZOFFSETFROM:+0000
TZOFFSETTO:+0000
TZNAME:UTC
DTSTART:20170101T000000
END:STANDARD
END:VTIMEZONE
BEGIN:VEVENT
DTSTART;VALUE=DATE:20170518
DTEND;VALUE=DATE:20170519
DTSTAMP:20260421T203750
CREATED:20170510T174616Z
LAST-MODIFIED:20170510T174616Z
UID:20824-1495065600-1495151999@www.verdadeiroolhar.pt
SUMMARY:Dia Internacional dos Museus em Penafiel
DESCRIPTION:No dia 18 de Maio\, o Museu Municipal de Penafiel em parceria com a Comissão de Protecção de Crianças e Jovens de Penafiel (CPCJ) associam-se ao Dia Internacional dos Museus promovendo uma acção de sensibilização\, seguida de ateliê\, para o público escolar\, sob o tema eleito pelo ICOM para esta comemoração Museus e histórias controversas: “Dizer o indizível em museus”.
URL:https://www.verdadeiroolhar.pt/evento/dia-internacional-dos-museus-penafiel/
LOCATION:Museu Municipal de Penafiel\, R. do Paço\, Penafiel\, 4560-485\, Portugal
CATEGORIES:Eventos Públicos
ATTACH;FMTTYPE=image/jpeg:https://www.verdadeiroolhar.pt/wp-content/uploads/2017/01/MMP-sala4-ofícios-2.jpg
END:VEVENT
END:VCALENDAR