BEGIN:VCALENDAR
VERSION:2.0
PRODID:-//Verdadeiro Olhar - ECPv5.8.0//NONSGML v1.0//EN
CALSCALE:GREGORIAN
METHOD:PUBLISH
X-WR-CALNAME:Verdadeiro Olhar
X-ORIGINAL-URL:https://www.verdadeiroolhar.pt
X-WR-CALDESC:Events for Verdadeiro Olhar
BEGIN:VTIMEZONE
TZID:UTC
BEGIN:STANDARD
TZOFFSETFROM:+0000
TZOFFSETTO:+0000
TZNAME:UTC
DTSTART:20170101T000000
END:STANDARD
END:VTIMEZONE
BEGIN:VEVENT
DTSTART;TZID=UTC:20170726T090000
DTEND;TZID=UTC:20170726T170000
DTSTAMP:20260423T080100
CREATED:20170719T140717Z
LAST-MODIFIED:20170719T140717Z
UID:24796-1501059600-1501088400@www.verdadeiroolhar.pt
SUMMARY:Dia dos Avós em Penafiel
DESCRIPTION:No dia 26 de Julho\, o Parque da Cidade de Penafiel recebe mais um Dia dos Avós. A iniciativa é organizada pela Câmara Municipal de Penafiel. \n\nPrograma: \n09H00 Recepção aos Avós\n09H45 Avós em Movimento\n11H00 Missa Presidida por Sua Excelência Reverendíssima o Bispo do Porto\n12H00 Apresentação do Livro “Dia Nacional dos Avós\, Sim Valeu a Pena”\, de António Couto Faria\n12H45 Mega Pic-Nic\n14H30 Actuação de Vários Artistas
URL:https://www.verdadeiroolhar.pt/evento/dia-dos-avos-penafiel/
LOCATION:Parque da Cidade de Penafiel\, Penafiel\, 4560\, Portugal
CATEGORIES:Eventos Públicos
ATTACH;FMTTYPE=image/jpeg:https://www.verdadeiroolhar.pt/wp-content/uploads/2017/07/DiaAvos2017_Cartaz.jpg
END:VEVENT
END:VCALENDAR