BEGIN:VCALENDAR
VERSION:2.0
PRODID:-//Verdadeiro Olhar - ECPv5.8.0//NONSGML v1.0//EN
CALSCALE:GREGORIAN
METHOD:PUBLISH
X-WR-CALNAME:Verdadeiro Olhar
X-ORIGINAL-URL:https://www.verdadeiroolhar.pt
X-WR-CALDESC:Events for Verdadeiro Olhar
BEGIN:VTIMEZONE
TZID:UTC
BEGIN:STANDARD
TZOFFSETFROM:+0000
TZOFFSETTO:+0000
TZNAME:UTC
DTSTART:20170101T000000
END:STANDARD
END:VTIMEZONE
BEGIN:VEVENT
DTSTART;TZID=UTC:20170726T100000
DTEND;TZID=UTC:20170726T170000
DTSTAMP:20260423T092552
CREATED:20170719T140143Z
LAST-MODIFIED:20170719T140211Z
UID:24791-1501063200-1501088400@www.verdadeiroolhar.pt
SUMMARY:Dia dos Avós em Paredes
DESCRIPTION:O “Dia dos Avós” irá realizar-se no dia 26 de Julho\, pelas 10h00\, no Parque da Cidade de Paredes. \nA organização desta actividade é da responsabilidade do município de Paredes pelo Programa Movimentos Sénior e em parceria com o CLDS3G – Horizontes de Inclusão. \nA iniciativa visa a promoção do envelhecimento activo e do convívio\, estimulando a mobilidade\, o exercício físico e as capacidades cognitivas. \nA organização responsabiliza-se pelo transporte e pelo lanche. As inscrições devem ser realizadas nas Juntas de Freguesia. \nPrograma \n\n10h00 – Recepção dos/as avôs/avós\n10h30 – Sessão de abertura\n10h45 às 12h30 – Rastreios de saúde\n10h45 – Caminhada\, Jogos desportivos/tradicionais\n11h30 – Aula de ginástica\n12h30 – Almoço – Piquenique\n14h00 – Actuação grupo musical\, Ricardo Ramalho\n16h00 – Lanche convívio (oferta de bolo e sumo)\n16h30 – Sessão de encerramento
URL:https://www.verdadeiroolhar.pt/evento/dia-dos-avos-paredes/
LOCATION:Parque da Cidade de Paredes\, Paredes
CATEGORIES:Eventos Públicos
ATTACH;FMTTYPE=image/png:https://www.verdadeiroolhar.pt/wp-content/uploads/2017/07/dias_dos_avos_interior_1_1024_2500.png
END:VEVENT
END:VCALENDAR