BEGIN:VCALENDAR
VERSION:2.0
PRODID:-//Verdadeiro Olhar - ECPv5.8.0//NONSGML v1.0//EN
CALSCALE:GREGORIAN
METHOD:PUBLISH
X-WR-CALNAME:Verdadeiro Olhar
X-ORIGINAL-URL:https://www.verdadeiroolhar.pt
X-WR-CALDESC:Events for Verdadeiro Olhar
BEGIN:VTIMEZONE
TZID:UTC
BEGIN:STANDARD
TZOFFSETFROM:+0000
TZOFFSETTO:+0000
TZNAME:UTC
DTSTART:20160101T000000
END:STANDARD
END:VTIMEZONE
BEGIN:VEVENT
DTSTART;TZID=UTC:20161104T213000
DTEND;TZID=UTC:20161104T230000
DTSTAMP:20260426T020807
CREATED:20161031T094106Z
LAST-MODIFIED:20161031T095723Z
UID:14837-1478295000-1478300400@www.verdadeiroolhar.pt
SUMMARY:"Desertor 6520" apresentado na Biblioteca de Penafiel
DESCRIPTION:No dia 4 de Novembro\, o auditório da Biblioteca Municipal de Penafiel recebe\, pelas 21h30\, a apresentação do livro “Desertor 6520”\, de José Claudino Silva.
URL:https://www.verdadeiroolhar.pt/evento/desertor-6520-apresentado-na-biblioteca-penafiel/
LOCATION:Biblioteca Municipal de Penafiel\, Avenida Egas Moniz\, Penafiel\, Portugal
CATEGORIES:Cultura
ATTACH;FMTTYPE=image/jpeg:https://www.verdadeiroolhar.pt/wp-content/uploads/2016/10/Desertor6520.jpg
END:VEVENT
END:VCALENDAR