BEGIN:VCALENDAR
VERSION:2.0
PRODID:-//Verdadeiro Olhar - ECPv5.8.0//NONSGML v1.0//EN
CALSCALE:GREGORIAN
METHOD:PUBLISH
X-WR-CALNAME:Verdadeiro Olhar
X-ORIGINAL-URL:https://www.verdadeiroolhar.pt
X-WR-CALDESC:Events for Verdadeiro Olhar
BEGIN:VTIMEZONE
TZID:UTC
BEGIN:STANDARD
TZOFFSETFROM:+0000
TZOFFSETTO:+0000
TZNAME:UTC
DTSTART:20160101T000000
END:STANDARD
END:VTIMEZONE
BEGIN:VEVENT
DTSTART;TZID=UTC:20160820T100000
DTEND;TZID=UTC:20160821T000000
DTSTAMP:20260423T155954
CREATED:20160808T150956Z
LAST-MODIFIED:20160808T150956Z
UID:12246-1471687200-1471737600@www.verdadeiroolhar.pt
SUMMARY:David Carreira na Agrival 2016
DESCRIPTION:Agrival 2016: 37.ª Feira Agrícola do Vale do Sousa \nDia do Concelho de Castelo de Paiva\n10h00 Abertura\nPalco Intermarché     \n17h00 Grupo de Cavaquinhos S. Miguel de Paredes\n18h00 Grupo Cantar é Viver – Capela\n19h00 Grupo Musical Terra Nossa – Guilhufe\n20h00 Rancho Folclórico Infantil de Cabeça Santa\n21h00 Rancho Folclórico Centro Cultural de Rio de Moinhos\n22h00 Rancho Folclórico de Villa Bonelli – Boelhe\n23h00 Grupo Musical “Mistery Band”\n00h00 Dj Residente: Miguel Tika | Dj Convidado: MigPost \nPalco McDonald’s Penafiel\n22h00 Dj’s Meninos do Rio\n22h30 Concerto de David Carreira \n24h00 Encerramento \nDurante todo o certame pode visitar a 15.ª Mostra Nacional de Gastronomia\, entre as 12h00 e a 1h30. A entrada é livre\, para a praça de gastronomia\, de 2.ª a 6.ª feira entre as 12h00 e as 14h00.
URL:https://www.verdadeiroolhar.pt/evento/david-carreira-na-agrival-2016/
LOCATION:Pavilhão de Feiras e Exposições\, Rua D. António Ferreira Gomes\, Penafiel\, 4560-568
CATEGORIES:Cultura,Eventos Públicos
ATTACH;FMTTYPE=image/jpeg:https://www.verdadeiroolhar.pt/wp-content/uploads/2016/08/David-Carreira.jpg
END:VEVENT
END:VCALENDAR