BEGIN:VCALENDAR
VERSION:2.0
PRODID:-//Verdadeiro Olhar - ECPv5.8.0//NONSGML v1.0//EN
CALSCALE:GREGORIAN
METHOD:PUBLISH
X-WR-CALNAME:Verdadeiro Olhar
X-ORIGINAL-URL:https://www.verdadeiroolhar.pt
X-WR-CALDESC:Events for Verdadeiro Olhar
BEGIN:VTIMEZONE
TZID:UTC
BEGIN:STANDARD
TZOFFSETFROM:+0000
TZOFFSETTO:+0000
TZNAME:UTC
DTSTART:20170101T000000
END:STANDARD
END:VTIMEZONE
BEGIN:VEVENT
DTSTART;TZID=UTC:20170521T100000
DTEND;TZID=UTC:20170521T123000
DTSTAMP:20260421T141804
CREATED:20170502T135912Z
LAST-MODIFIED:20170502T135912Z
UID:20401-1495360800-1495369800@www.verdadeiroolhar.pt
SUMMARY:Da Semente à Floresta - Passeio Botânico
DESCRIPTION:No âmbito do BioLousada decorre\, no dia 21 de Maio\, na Quinta de Vila Verde\, em Caíde de Rei\, Lousada\, a iniciativa Da Semente à Floresta – Passeio Botânico. \nA sessão vai ajudar a descobrir as plantas dos campos lousadenses com a ajuda de um biólogo. \nAs inscrições são gratuitas mas obrigatórias.
URL:https://www.verdadeiroolhar.pt/evento/da-semente-floresta-passeio-botanico/
LOCATION:Caíde de Rei\, Caíde de Rei\, Lousada
CATEGORIES:Eventos Públicos
ATTACH;FMTTYPE=image/jpeg:https://www.verdadeiroolhar.pt/wp-content/uploads/2017/05/2017_05_biolousada_botanico.jpg
END:VEVENT
END:VCALENDAR