BEGIN:VCALENDAR
VERSION:2.0
PRODID:-//Verdadeiro Olhar - ECPv5.8.0//NONSGML v1.0//EN
CALSCALE:GREGORIAN
METHOD:PUBLISH
X-WR-CALNAME:Verdadeiro Olhar
X-ORIGINAL-URL:https://www.verdadeiroolhar.pt
X-WR-CALDESC:Events for Verdadeiro Olhar
BEGIN:VTIMEZONE
TZID:UTC
BEGIN:STANDARD
TZOFFSETFROM:+0000
TZOFFSETTO:+0000
TZNAME:UTC
DTSTART:20160101T000000
END:STANDARD
END:VTIMEZONE
BEGIN:VEVENT
DTSTART;TZID=UTC:20160823T150000
DTEND;TZID=UTC:20160824T000000
DTSTAMP:20260423T202806
CREATED:20160808T152108Z
LAST-MODIFIED:20160808T152108Z
UID:12252-1471964400-1471996800@www.verdadeiroolhar.pt
SUMMARY:Cuca Roseta na Agrival 2016
DESCRIPTION:Agrival 2016: 37.ª Feira Agrícola do Vale do Sousa \nDia do Concelho de Paredes \n15h00 Abertura \nPalco Intermarché \n16h00 Concurso “Broa de Milho”\, com a colaboração de Técnicos da Direcção Regional de Agricultura\n17h00 Concurso “Pão-de-Ló”\n21h00 Grupo de Dança “Redeal” Dança Crew – Rio de Moinhos\n22h00 Grupo de Cantares da Paróquia de S. Miguel de Urrô\n23h00 Grupo de Zumba do G.F. Penafiel\n00h30 Dj Residente Miguel Tika | Dj Convidado: Kingz \n\nPalco McDonald’s Penafiel\n22h00 Grupo de Guitarras de Penafiel\n22h30 Concerto de Cuca Roseta \n24h00 Encerramento \nDurante todo o certame pode visitar a 15.ª Mostra Nacional de Gastronomia\, entre as 12h00 e a 1h30. A entrada é livre\, para a praça de gastronomia\, de 2.ª a 6.ª feira entre as 12h00 e as 14h00.
URL:https://www.verdadeiroolhar.pt/evento/cuca-roseta-na-agrival-2016/
LOCATION:Pavilhão de Feiras e Exposições\, Rua D. António Ferreira Gomes\, Penafiel\, 4560-568
CATEGORIES:Cultura,Eventos Públicos
ATTACH;FMTTYPE=image/jpeg:https://www.verdadeiroolhar.pt/wp-content/uploads/2016/08/Cuca-Roseta.jpg
END:VEVENT
END:VCALENDAR