BEGIN:VCALENDAR
VERSION:2.0
PRODID:-//Verdadeiro Olhar - ECPv5.8.0//NONSGML v1.0//EN
CALSCALE:GREGORIAN
METHOD:PUBLISH
X-WR-CALNAME:Verdadeiro Olhar
X-ORIGINAL-URL:https://www.verdadeiroolhar.pt
X-WR-CALDESC:Events for Verdadeiro Olhar
BEGIN:VTIMEZONE
TZID:UTC
BEGIN:STANDARD
TZOFFSETFROM:+0000
TZOFFSETTO:+0000
TZNAME:UTC
DTSTART:20180101T000000
END:STANDARD
END:VTIMEZONE
BEGIN:VEVENT
DTSTART;TZID=UTC:20180414T093000
DTEND;TZID=UTC:20180414T123000
DTSTAMP:20260423T182305
CREATED:20180319T124537Z
LAST-MODIFIED:20180319T124537Z
UID:37154-1523698200-1523709000@www.verdadeiroolhar.pt
SUMMARY:CSI Natureza em Lousada
DESCRIPTION:A 14 de Abril\, a Associação Bioliving e a Câmara Municipal de Lousada organizam mais um evento no âmbito do BioLousada designado CSI Natureza\, entre as 9h30 e as 12h30\, no Parque Urbano. \nO ambiente e a biodiversidade que rodeiam um cenário de crime podem ser fulcrais no desfecho da investigação. A botânica forense\, a entomologia forense\, a observação de pelos e pegadas são exemplos de pistas que podem ajudar a resolver casos de polícia. Esta actividade é para os mais curiosos e destemidos detectives da natureza e ensinará como a biologia se cruza com outras ciências na análise de tipos sanguíneos\, impressões digitais\, e outros vestígios\, refere a organização. \nAs inscrições são gratuitas mas obrigatórias. \nA actividade conta com o apoio de Euro4science project e do Departamento de Biologia – Universidade de Aveiro.
URL:https://www.verdadeiroolhar.pt/evento/csi-natureza-lousada/
LOCATION:Parque Urbano Dr. Mário Fonseca\, Avenida Amílcar Neto\, Lousada
CATEGORIES:Eventos Públicos
ATTACH;FMTTYPE=image/jpeg:https://www.verdadeiroolhar.pt/wp-content/uploads/2018/03/BioLousada.jpg
END:VEVENT
END:VCALENDAR