BEGIN:VCALENDAR
VERSION:2.0
PRODID:-//Verdadeiro Olhar - ECPv5.8.0//NONSGML v1.0//EN
CALSCALE:GREGORIAN
METHOD:PUBLISH
X-WR-CALNAME:Verdadeiro Olhar
X-ORIGINAL-URL:https://www.verdadeiroolhar.pt
X-WR-CALDESC:Events for Verdadeiro Olhar
BEGIN:VTIMEZONE
TZID:UTC
BEGIN:STANDARD
TZOFFSETFROM:+0000
TZOFFSETTO:+0000
TZNAME:UTC
DTSTART:20170101T000000
END:STANDARD
END:VTIMEZONE
BEGIN:VEVENT
DTSTART;TZID=UTC:20170805T110000
DTEND;TZID=UTC:20170806T190000
DTSTAMP:20260422T190522
CREATED:20170721T103116Z
LAST-MODIFIED:20170721T103618Z
UID:24869-1501930800-1502046000@www.verdadeiroolhar.pt
SUMMARY:"Couce em Festa" em Valongo
DESCRIPTION:Nos dias 5 e 6 de Agosto\, a aldeia de Couce\, em Valongo\, recebe a iniciativa Couce em Festa. \nA iniciativa tem entrada livre e contará com a participação das associações do concelho. \nHaverá recriações dos tradicionais merendeiros em família\, tasquinhas\, produtos do concelho\, animação itinerante e de palco\, jogos tradicionais e actividades na natureza. \nNo dia 5\, pelas 18h00\, decorre ainda um espectáculo com o comediante Fernando Rocha. \nO Couce em Festa realiza-se entre as 11h00 e as 22h00 de sábado e as 11h00 e as 19h00 de domingo.
URL:https://www.verdadeiroolhar.pt/evento/couce-festa-valongo/
LOCATION:Aldeia de Couce\, Couce\, Valongo
CATEGORIES:Cultura,Eventos Públicos
ATTACH;FMTTYPE=image/jpeg:https://www.verdadeiroolhar.pt/wp-content/uploads/2017/07/20246305_1495749623821930_525032856875772176_n.jpg
END:VEVENT
END:VCALENDAR