BEGIN:VCALENDAR
VERSION:2.0
PRODID:-//Verdadeiro Olhar - ECPv5.8.0//NONSGML v1.0//EN
CALSCALE:GREGORIAN
METHOD:PUBLISH
X-WR-CALNAME:Verdadeiro Olhar
X-ORIGINAL-URL:https://www.verdadeiroolhar.pt
X-WR-CALDESC:Events for Verdadeiro Olhar
BEGIN:VTIMEZONE
TZID:UTC
BEGIN:STANDARD
TZOFFSETFROM:+0000
TZOFFSETTO:+0000
TZNAME:UTC
DTSTART:20170101T000000
END:STANDARD
END:VTIMEZONE
BEGIN:VEVENT
DTSTART;TZID=UTC:20171216T213000
DTEND;TZID=UTC:20171216T233000
DTSTAMP:20260422T195036
CREATED:20171108T160325Z
LAST-MODIFIED:20171108T160325Z
UID:30345-1513459800-1513467000@www.verdadeiroolhar.pt
SUMMARY:Corrida Lousada S. Silvestre
DESCRIPTION:Lousada recebe mais uma Corrida de S. Silvestre a 16 de Dezembro\, pelas 21h30. \nMais detalhes em breve.
URL:https://www.verdadeiroolhar.pt/evento/corrida-lousada-s-silvestre/
LOCATION:Lousada
CATEGORIES:Desporto
ATTACH;FMTTYPE=image/jpeg:https://www.verdadeiroolhar.pt/wp-content/uploads/2017/11/23319276_1486694148075847_4880468569286569538_n.jpg
END:VEVENT
END:VCALENDAR