BEGIN:VCALENDAR
VERSION:2.0
PRODID:-//Verdadeiro Olhar - ECPv5.8.0//NONSGML v1.0//EN
CALSCALE:GREGORIAN
METHOD:PUBLISH
X-WR-CALNAME:Verdadeiro Olhar
X-ORIGINAL-URL:https://www.verdadeiroolhar.pt
X-WR-CALDESC:Events for Verdadeiro Olhar
BEGIN:VTIMEZONE
TZID:UTC
BEGIN:STANDARD
TZOFFSETFROM:+0000
TZOFFSETTO:+0000
TZNAME:UTC
DTSTART:20170101T000000
END:STANDARD
END:VTIMEZONE
BEGIN:VEVENT
DTSTART;TZID=UTC:20170226T103000
DTEND;TZID=UTC:20170226T130000
DTSTAMP:20260425T160955
CREATED:20170116T153217Z
LAST-MODIFIED:20170116T153217Z
UID:16948-1488105000-1488114000@www.verdadeiroolhar.pt
SUMMARY:Corrida do Carnaval de Lousada
DESCRIPTION:A Corrida do Carnaval em Lousada 2017 vai na 4.ª edição. Está agendada para o dia 26 de Fevereiro\, sendo o arranque pelas 10h30\, no Parque Urbano. \nConta com duas provas: uma de 10 quilómetros cronometrada e uma de 5 quilómetros sem fins competitivos. \nAs inscrições podem ser realizadas no site da RunPorto.
URL:https://www.verdadeiroolhar.pt/evento/corrida-do-carnaval-lousada/
CATEGORIES:Desporto
ATTACH;FMTTYPE=image/jpeg:https://www.verdadeiroolhar.pt/wp-content/uploads/2017/01/489.pos_-e1484580691453.jpg
END:VEVENT
END:VCALENDAR