BEGIN:VCALENDAR
VERSION:2.0
PRODID:-//Verdadeiro Olhar - ECPv5.8.0//NONSGML v1.0//EN
CALSCALE:GREGORIAN
METHOD:PUBLISH
X-WR-CALNAME:Verdadeiro Olhar
X-ORIGINAL-URL:https://www.verdadeiroolhar.pt
X-WR-CALDESC:Events for Verdadeiro Olhar
BEGIN:VTIMEZONE
TZID:UTC
BEGIN:STANDARD
TZOFFSETFROM:+0000
TZOFFSETTO:+0000
TZNAME:UTC
DTSTART:20150101T000000
END:STANDARD
END:VTIMEZONE
BEGIN:VEVENT
DTSTART;TZID=UTC:20151207T093000
DTEND;TZID=UTC:20151214T170000
DTSTAMP:20260422T120807
CREATED:20151126T151515Z
LAST-MODIFIED:20151126T151515Z
UID:2341-1449480600-1450112400@www.verdadeiroolhar.pt
SUMMARY:Contos de Natal
DESCRIPTION:Nos dias 7 e 14 de Dezembro\, irão realizar-se Contos de Natal\, na Biblioteca A Celer. \nEste evento foi organizado pela Junta de Freguesia de Rebordosa.
URL:https://www.verdadeiroolhar.pt/evento/contos-de-natal/
LOCATION:Biblioteca A Celer\, Rebordosa
CATEGORIES:Cultura
END:VEVENT
END:VCALENDAR