BEGIN:VCALENDAR
VERSION:2.0
PRODID:-//Verdadeiro Olhar - ECPv5.8.0//NONSGML v1.0//EN
CALSCALE:GREGORIAN
METHOD:PUBLISH
X-WR-CALNAME:Verdadeiro Olhar
X-ORIGINAL-URL:https://www.verdadeiroolhar.pt
X-WR-CALDESC:Events for Verdadeiro Olhar
BEGIN:VTIMEZONE
TZID:UTC
BEGIN:STANDARD
TZOFFSETFROM:+0000
TZOFFSETTO:+0000
TZNAME:UTC
DTSTART:20160101T000000
END:STANDARD
END:VTIMEZONE
BEGIN:VEVENT
DTSTART;TZID=UTC:20160907T090000
DTEND;TZID=UTC:20160928T170000
DTSTAMP:20260424T044513
CREATED:20160906T160516Z
LAST-MODIFIED:20160906T160516Z
UID:12900-1473238800-1475082000@www.verdadeiroolhar.pt
SUMMARY:Contos Contigo na Biblioteca de Lousada
DESCRIPTION:Nos dias 7\, 14\, 21 e 28 de Setembro a Biblioteca Municipal de Lousada promove a iniciativa Contos Contigo\, com o objectivo de promover o livro e a leitura.
URL:https://www.verdadeiroolhar.pt/evento/contos-contigo-na-biblioteca-lousada/
LOCATION:Biblioteca Municipal de Lousada\, Lousada
CATEGORIES:Cultura
ATTACH;FMTTYPE=image/jpeg:https://www.verdadeiroolhar.pt/wp-content/uploads/2016/09/contos-contigo.jpg
END:VEVENT
END:VCALENDAR