BEGIN:VCALENDAR
VERSION:2.0
PRODID:-//Verdadeiro Olhar - ECPv5.8.0//NONSGML v1.0//EN
CALSCALE:GREGORIAN
METHOD:PUBLISH
X-WR-CALNAME:Verdadeiro Olhar
X-ORIGINAL-URL:https://www.verdadeiroolhar.pt
X-WR-CALDESC:Events for Verdadeiro Olhar
BEGIN:VTIMEZONE
TZID:UTC
BEGIN:STANDARD
TZOFFSETFROM:+0000
TZOFFSETTO:+0000
TZNAME:UTC
DTSTART:20160101T000000
END:STANDARD
END:VTIMEZONE
BEGIN:VEVENT
DTSTART;TZID=UTC:20161014T213000
DTEND;TZID=UTC:20161014T233000
DTSTAMP:20260425T131316
CREATED:20161011T153359Z
LAST-MODIFIED:20161011T153359Z
UID:14293-1476480600-1476487800@www.verdadeiroolhar.pt
SUMMARY:Conta-me Histórias com Carlos Alberto Moniz
DESCRIPTION:O Auditório da Casa de Cultura de Paredes recebe\, a 14 de Outubro\, mais um Conta-me Histórias\, desta vez com Carlos Alberto Moniz. \nA sessão começa pelas 21h30 e a entrada tem o custo de um euro. A reserva de bilhetes pode ser feita junto da Casa da Cultura de Paredes. \nO Conta-me Histórias é um ciclo de conversas – concerto com conhecidos músicos que nos vão contar alguns pormenores menos conhecidos das suas carreiras\, pontuados por algumas das suas músicas mais emblemáticas.
URL:https://www.verdadeiroolhar.pt/evento/conta-me-historias-carlos-alberto-moniz/
LOCATION:Casa da Cultura de Paredes\, Avenida da República\, Paredes\, 4580-193
CATEGORIES:Cultura
ATTACH;FMTTYPE=image/png:https://www.verdadeiroolhar.pt/wp-content/uploads/2016/10/14out.png
END:VEVENT
END:VCALENDAR