BEGIN:VCALENDAR
VERSION:2.0
PRODID:-//Verdadeiro Olhar - ECPv5.8.0//NONSGML v1.0//EN
CALSCALE:GREGORIAN
METHOD:PUBLISH
X-WR-CALNAME:Verdadeiro Olhar
X-ORIGINAL-URL:https://www.verdadeiroolhar.pt
X-WR-CALDESC:Events for Verdadeiro Olhar
BEGIN:VTIMEZONE
TZID:UTC
BEGIN:STANDARD
TZOFFSETFROM:+0000
TZOFFSETTO:+0000
TZNAME:UTC
DTSTART:20160101T000000
END:STANDARD
END:VTIMEZONE
BEGIN:VEVENT
DTSTART;TZID=UTC:20161021T213000
DTEND;TZID=UTC:20161021T233000
DTSTAMP:20260425T190358
CREATED:20161011T154133Z
LAST-MODIFIED:20161011T154133Z
UID:14296-1477085400-1477092600@www.verdadeiroolhar.pt
SUMMARY:Conta-me Histórias com Capicua
DESCRIPTION:A 21 de Outubro\, a Casa da Cultura de Paredes recebe mais um Conta-me Histórias\, desta vez com Capicua. \nA sessão começa pelas 21h30 e tem o custo de um euro\, podendo ser efectuada reserva de bilhetes. \nCapicua nasce no Porto\, onde aos 15 descobre o Hip Hop. Socióloga\, doutorada em Geografia\, é sobretudo uma Rapper militante. \nCom duas mixtapes\, dois álbuns editados (Capicua\, 2012; Sereia Louca\, 2014) e um disco de remisturas (Medusa\, 2015)\, tem somado uma vasta lista de concertos pelo país e conquistado um público diverso e o reconhecimento da crítica. \nO Conta-me Histórias é um ciclo de conversas – concerto com conhecidos músicos que nos vão contar alguns pormenores menos conhecidos das suas carreiras\, pontuados por algumas das suas músicas mais emblemáticas. \nReserva de bilhetes: Casa da Cultura de Paredes – 255 780 446
URL:https://www.verdadeiroolhar.pt/evento/conta-me-historias-capicua/
LOCATION:Casa da Cultura de Paredes\, Avenida da República\, Paredes\, 4580-193
CATEGORIES:Cultura
ATTACH;FMTTYPE=image/jpeg:https://www.verdadeiroolhar.pt/wp-content/uploads/2016/10/site.jpg
END:VEVENT
END:VCALENDAR