BEGIN:VCALENDAR
VERSION:2.0
PRODID:-//Verdadeiro Olhar - ECPv5.8.0//NONSGML v1.0//EN
CALSCALE:GREGORIAN
METHOD:PUBLISH
X-WR-CALNAME:Verdadeiro Olhar
X-ORIGINAL-URL:https://www.verdadeiroolhar.pt
X-WR-CALDESC:Events for Verdadeiro Olhar
BEGIN:VTIMEZONE
TZID:UTC
BEGIN:STANDARD
TZOFFSETFROM:+0000
TZOFFSETTO:+0000
TZNAME:UTC
DTSTART:20160101T000000
END:STANDARD
END:VTIMEZONE
BEGIN:VEVENT
DTSTART;TZID=UTC:20160625T213000
DTEND;TZID=UTC:20160625T230000
DTSTAMP:20260421T160322
CREATED:20160606T145415Z
LAST-MODIFIED:20160606T150057Z
UID:9674-1466890200-1466895600@www.verdadeiroolhar.pt
SUMMARY:Conferência sobre migrações e desafio de acolher os estrangeiros
DESCRIPTION:O espaço AJE\, em Lousada\, vai acolher a conferência “Dar pousada aos peregrinos- As migrações como sinais dos tempos e o desafio de acolher os estrangeiros”\, a partir das 21h30. \nA sessão contará com o professor Jorge Cunha da Universidade Católica que assumirá o papel de moderador. Como intervenientes estarão Irene Guia\, voluntária no Serviço Jesuíta aos Refugiados e membro da Plataforma de Apoio aos Refugiados; o responsável pelo programa de acolhimento ao refugiados no distrito do Porto; e\, por fim\, Pedro Machado\, presidente da Câmara de Lousada.
URL:https://www.verdadeiroolhar.pt/evento/conferencia-migracoes-desafio-acolher-os-estrangeiros/
LOCATION:Espaço AJE\, Rua dos Bombeiros Voluntários de Lousada\, Portugal
CATEGORIES:Cultura
ATTACH;FMTTYPE=image/jpeg:https://www.verdadeiroolhar.pt/wp-content/uploads/2016/06/LSD_Sagaz-Networking.jpg
END:VEVENT
END:VCALENDAR