BEGIN:VCALENDAR
VERSION:2.0
PRODID:-//Verdadeiro Olhar - ECPv5.8.0//NONSGML v1.0//EN
CALSCALE:GREGORIAN
METHOD:PUBLISH
X-WR-CALNAME:Verdadeiro Olhar
X-ORIGINAL-URL:https://www.verdadeiroolhar.pt
X-WR-CALDESC:Events for Verdadeiro Olhar
BEGIN:VTIMEZONE
TZID:UTC
BEGIN:STANDARD
TZOFFSETFROM:+0000
TZOFFSETTO:+0000
TZNAME:UTC
DTSTART:20180101T000000
END:STANDARD
END:VTIMEZONE
BEGIN:VEVENT
DTSTART;VALUE=DATE:20180321
DTEND;VALUE=DATE:20180325
DTSTAMP:20260422T132733
CREATED:20180319T174602Z
LAST-MODIFIED:20180319T174602Z
UID:37202-1521590400-1521935999@www.verdadeiroolhar.pt
SUMMARY:Concertos de Páscoa no Auditório de Lousada
DESCRIPTION:O Conservatório do Vale do Sousa volta a promover dois concertos de Páscoa no Auditório Municipal de Lousada. \nOs espectáculos acontecem nos dias 21 e 24 de Março\, pelas 19h00 e 21h30\, respectivamente.
URL:https://www.verdadeiroolhar.pt/evento/concertos-pascoa-no-auditorio-lousada/
LOCATION:Auditório Municipal de Lousada\, Qtª das Pocinhas\, Lousada\, 4620-674\, Portugal
CATEGORIES:Cultura
ATTACH;FMTTYPE=image/jpeg:https://www.verdadeiroolhar.pt/wp-content/uploads/2015/11/conservatorio.jpg
ORGANIZER;CN="Conservat%C3%B3rio%20do%20Vale%20do%20Sousa":MAILTO:secretaria@acmlousada.pt
END:VEVENT
END:VCALENDAR