BEGIN:VCALENDAR
VERSION:2.0
PRODID:-//Verdadeiro Olhar - ECPv5.8.0//NONSGML v1.0//EN
CALSCALE:GREGORIAN
METHOD:PUBLISH
X-WR-CALNAME:Verdadeiro Olhar
X-ORIGINAL-URL:https://www.verdadeiroolhar.pt
X-WR-CALDESC:Events for Verdadeiro Olhar
BEGIN:VTIMEZONE
TZID:UTC
BEGIN:STANDARD
TZOFFSETFROM:+0000
TZOFFSETTO:+0000
TZNAME:UTC
DTSTART:20180101T000000
END:STANDARD
END:VTIMEZONE
BEGIN:VEVENT
DTSTART;VALUE=DATE:20180319
DTEND;VALUE=DATE:20180328
DTSTAMP:20260422T115702
CREATED:20180319T181026Z
LAST-MODIFIED:20180319T181026Z
UID:37205-1521417600-1522195199@www.verdadeiroolhar.pt
SUMMARY:Concertos de Páscoa do Conservatório de Música de Paredes
DESCRIPTION:O Conservatório de Música de Paredes apresenta entre 19 e 27 de Março um ciclo de Concertos de Páscoa. \nO palco é o auditório da instituição. \nConheça as datas. \n \n 
URL:https://www.verdadeiroolhar.pt/evento/concertos-pascoa-do-conservatorio-musica-paredes/
LOCATION:Conservatório de Música de Paredes\, Av. da Republica 145\, Paredes\, 4580-193\, Portugal
CATEGORIES:Cultura
ATTACH;FMTTYPE=image/jpeg:https://www.verdadeiroolhar.pt/wp-content/uploads/2018/03/Concertos.jpg
END:VEVENT
END:VCALENDAR