BEGIN:VCALENDAR
VERSION:2.0
PRODID:-//Verdadeiro Olhar - ECPv5.8.0//NONSGML v1.0//EN
CALSCALE:GREGORIAN
METHOD:PUBLISH
X-WR-CALNAME:Verdadeiro Olhar
X-ORIGINAL-URL:https://www.verdadeiroolhar.pt
X-WR-CALDESC:Events for Verdadeiro Olhar
BEGIN:VTIMEZONE
TZID:UTC
BEGIN:STANDARD
TZOFFSETFROM:+0000
TZOFFSETTO:+0000
TZNAME:UTC
DTSTART:20170101T000000
END:STANDARD
END:VTIMEZONE
BEGIN:VEVENT
DTSTART;TZID=UTC:20171216T213000
DTEND;TZID=UTC:20180106T230000
DTSTAMP:20260422T211808
CREATED:20171204T122520Z
LAST-MODIFIED:20171204T122520Z
UID:31783-1513459800-1515279600@www.verdadeiroolhar.pt
SUMMARY:Concertos de Natal e Reis em Valongo
DESCRIPTION:Entre 16 de Dezembro de 2017 e 6 de Janeiro de 2018\, cinco Igrejas de Valongo\, Sobrado\, Alfena\, Campo e Ermesinde recebem concertos de Natal e Reis. \nA actuar estarão o Orfeão da Associação Académica e Cultural de Ermesinde e a Banda Musical de São Martinho de Campo. \nTodos os concertos decorrem pelas 21h30. \nA organização é da Câmara Municipal de Valongo em conjunto com as respectivas paróquias.
URL:https://www.verdadeiroolhar.pt/evento/concertos-natal-reis-valongo/
LOCATION:Valongo\, Valongo
CATEGORIES:Cultura
ATTACH;FMTTYPE=image/jpeg:https://www.verdadeiroolhar.pt/wp-content/uploads/2017/12/Concertos.jpg
END:VEVENT
END:VCALENDAR