BEGIN:VCALENDAR
VERSION:2.0
PRODID:-//Verdadeiro Olhar - ECPv5.8.0//NONSGML v1.0//EN
CALSCALE:GREGORIAN
METHOD:PUBLISH
X-WR-CALNAME:Verdadeiro Olhar
X-ORIGINAL-URL:https://www.verdadeiroolhar.pt
X-WR-CALDESC:Events for Verdadeiro Olhar
BEGIN:VTIMEZONE
TZID:UTC
BEGIN:STANDARD
TZOFFSETFROM:+0000
TZOFFSETTO:+0000
TZNAME:UTC
DTSTART:20180101T000000
END:STANDARD
END:VTIMEZONE
BEGIN:VEVENT
DTSTART;TZID=UTC:20180106T213000
DTEND;TZID=UTC:20180106T230000
DTSTAMP:20260422T224846
CREATED:20171220T112629Z
LAST-MODIFIED:20171220T112629Z
UID:32700-1515274200-1515279600@www.verdadeiroolhar.pt
SUMMARY:Concerto de Reis no Museu de Penafiel
DESCRIPTION:O Museu Municipal e a Escola de Música da Banda Musical de Lagares juntam-se para dar as boas-vindas a 2018\, num Concerto de Reis sob a direcção do jovem Maestro Luís Oliveira. \nA iniciativa vai decorrer a 6 de Janeiro\, pelas 21h30\, tendo entrada gratuita. \nA Escola de Música da Banda Musical de Lagares funciona há mais de 30 anos com o objextivo de promover uma qualificada educação e formação musical\, de forma a que os alunos possam compreender a música enquanto expressão humana\, artística e cultural.
URL:https://www.verdadeiroolhar.pt/evento/concerto-reis-no-museu-penafiel/
LOCATION:Museu Municipal de Penafiel\, R. do Paço\, Penafiel\, 4560-485\, Portugal
CATEGORIES:Cultura
ATTACH;FMTTYPE=image/jpeg:https://www.verdadeiroolhar.pt/wp-content/uploads/2016/05/museu.jpg
END:VEVENT
END:VCALENDAR