BEGIN:VCALENDAR
VERSION:2.0
PRODID:-//Verdadeiro Olhar - ECPv5.8.0//NONSGML v1.0//EN
CALSCALE:GREGORIAN
METHOD:PUBLISH
X-WR-CALNAME:Verdadeiro Olhar
X-ORIGINAL-URL:https://www.verdadeiroolhar.pt
X-WR-CALDESC:Events for Verdadeiro Olhar
BEGIN:VTIMEZONE
TZID:UTC
BEGIN:STANDARD
TZOFFSETFROM:+0000
TZOFFSETTO:+0000
TZNAME:UTC
DTSTART:20180101T000000
END:STANDARD
END:VTIMEZONE
BEGIN:VEVENT
DTSTART;TZID=UTC:20180113T213000
DTEND;TZID=UTC:20180113T230000
DTSTAMP:20260422T181517
CREATED:20180105T170622Z
LAST-MODIFIED:20180105T170622Z
UID:33234-1515879000-1515884400@www.verdadeiroolhar.pt
SUMMARY:Concerto de Reis no Auditório d'A LORD
DESCRIPTION:No dia 13 de Janeiro\, o Auditório da Fundação A LORD\, em Lordelo\, Paredes\, recebe um Concerto de Reis. \nEm palco estarão o Orfeão e a Orquestra da Fundação A LORD. O concerto começa pelas 21h30 e tem entrada livre.
URL:https://www.verdadeiroolhar.pt/evento/concerto-reis-no-auditorio-da-lord/
LOCATION:Auditório da Fundação A LORD\, Lordelo
CATEGORIES:Cultura
ATTACH;FMTTYPE=image/jpeg:https://www.verdadeiroolhar.pt/wp-content/uploads/2018/01/A-LORD.jpg
END:VEVENT
END:VCALENDAR