BEGIN:VCALENDAR
VERSION:2.0
PRODID:-//Verdadeiro Olhar - ECPv5.8.0//NONSGML v1.0//EN
CALSCALE:GREGORIAN
METHOD:PUBLISH
X-WR-CALNAME:Verdadeiro Olhar
X-ORIGINAL-URL:https://www.verdadeiroolhar.pt
X-WR-CALDESC:Events for Verdadeiro Olhar
BEGIN:VTIMEZONE
TZID:UTC
BEGIN:STANDARD
TZOFFSETFROM:+0000
TZOFFSETTO:+0000
TZNAME:UTC
DTSTART:20180101T000000
END:STANDARD
END:VTIMEZONE
BEGIN:VEVENT
DTSTART;TZID=UTC:20180105T213000
DTEND;TZID=UTC:20180105T230000
DTSTAMP:20260423T040523
CREATED:20180102T153916Z
LAST-MODIFIED:20180102T171533Z
UID:33006-1515187800-1515193200@www.verdadeiroolhar.pt
SUMMARY:Concerto de Reis na Igreja de Meinedo
DESCRIPTION:A Igreja de Meinedo recebe\, no dia 5 de Janeiro\, um Concerto de Reis protagonizado pelo Coro Feminino do Vale do Sousa. \nA iniciativa tem início pelas 21h30 e entrada livre. \nO concerto terá um reportório sacro. \nRecorde-se que a Igreja de Santa Maria de Meinedo integra a Rota do Românico.
URL:https://www.verdadeiroolhar.pt/evento/concerto-reis-na-igreja-meinedo/
LOCATION:Meinedo\, Lousada
CATEGORIES:Cultura
ATTACH;FMTTYPE=image/jpeg:https://www.verdadeiroolhar.pt/wp-content/uploads/2018/01/Concerto.jpg
END:VEVENT
END:VCALENDAR