BEGIN:VCALENDAR
VERSION:2.0
PRODID:-//Verdadeiro Olhar - ECPv5.8.0//NONSGML v1.0//EN
CALSCALE:GREGORIAN
METHOD:PUBLISH
X-WR-CALNAME:Verdadeiro Olhar
X-ORIGINAL-URL:https://www.verdadeiroolhar.pt
X-WR-CALDESC:Events for Verdadeiro Olhar
BEGIN:VTIMEZONE
TZID:UTC
BEGIN:STANDARD
TZOFFSETFROM:+0000
TZOFFSETTO:+0000
TZNAME:UTC
DTSTART:20180101T000000
END:STANDARD
END:VTIMEZONE
BEGIN:VEVENT
DTSTART;TZID=UTC:20180408T170000
DTEND;TZID=UTC:20180408T190000
DTSTAMP:20260423T120317
CREATED:20180404T103429Z
LAST-MODIFIED:20180404T103429Z
UID:38192-1523206800-1523214000@www.verdadeiroolhar.pt
SUMMARY:Concerto de Páscoa na Igreja de Alfena
DESCRIPTION:A Paróquia de São Vicente de Alfena vai realizar um Concerto de Páscoa na Igreja Matriz de Alfena\, no dia 8 de Abril\, pelas 17h00. \nO evento contará com a presença da Dogma Brass Band.
URL:https://www.verdadeiroolhar.pt/evento/concerto-pascoa-na-igreja-alfena/
LOCATION:Alfena\, Alfena\, Valongo\, Portugal
CATEGORIES:Cultura
ATTACH;FMTTYPE=image/jpeg:https://www.verdadeiroolhar.pt/wp-content/uploads/2018/04/Concerto.jpg
END:VEVENT
END:VCALENDAR