BEGIN:VCALENDAR
VERSION:2.0
PRODID:-//Verdadeiro Olhar - ECPv5.8.0//NONSGML v1.0//EN
CALSCALE:GREGORIAN
METHOD:PUBLISH
X-WR-CALNAME:Verdadeiro Olhar
X-ORIGINAL-URL:https://www.verdadeiroolhar.pt
X-WR-CALDESC:Events for Verdadeiro Olhar
BEGIN:VTIMEZONE
TZID:UTC
BEGIN:STANDARD
TZOFFSETFROM:+0000
TZOFFSETTO:+0000
TZNAME:UTC
DTSTART:20180101T000000
END:STANDARD
END:VTIMEZONE
BEGIN:VEVENT
DTSTART;TZID=UTC:20180407T213000
DTEND;TZID=UTC:20180407T230000
DTSTAMP:20260423T084336
CREATED:20180403T175124Z
LAST-MODIFIED:20180403T175124Z
UID:38171-1523136600-1523142000@www.verdadeiroolhar.pt
SUMMARY:Concerto de Páscoa na Fundação A LORD
DESCRIPTION:No próximo sábado\, dia 7 de Abril\, realizar-se-á o habitual Concerto de Páscoa\, pelo Orfeão da Fundação A LORD\, acompanhado por um Quarteto de Cordas\, no Salão Paroquial de Lordelo\, pelas 21h30. A entrada é livre.
URL:https://www.verdadeiroolhar.pt/evento/concerto-pascoa-na-fundacao-lord/
LOCATION:Auditório da Fundação A LORD\, Lordelo
CATEGORIES:Cultura
ATTACH;FMTTYPE=image/jpeg:https://www.verdadeiroolhar.pt/wp-content/uploads/2018/04/A-LORD.jpg
END:VEVENT
END:VCALENDAR