BEGIN:VCALENDAR
VERSION:2.0
PRODID:-//Verdadeiro Olhar - ECPv5.8.0//NONSGML v1.0//EN
CALSCALE:GREGORIAN
METHOD:PUBLISH
X-WR-CALNAME:Verdadeiro Olhar
X-ORIGINAL-URL:https://www.verdadeiroolhar.pt
X-WR-CALDESC:Events for Verdadeiro Olhar
BEGIN:VTIMEZONE
TZID:UTC
BEGIN:STANDARD
TZOFFSETFROM:+0000
TZOFFSETTO:+0000
TZNAME:UTC
DTSTART:20170101T000000
END:STANDARD
END:VTIMEZONE
BEGIN:VEVENT
DTSTART;TZID=UTC:20170407T210000
DTEND;TZID=UTC:20170407T230000
DTSTAMP:20260423T033832
CREATED:20170330T145320Z
LAST-MODIFIED:20170330T145320Z
UID:19401-1491598800-1491606000@www.verdadeiroolhar.pt
SUMMARY:Concerto de Páscoa na Casa da Cultura
DESCRIPTION:A Casa da Cultura de Paredes recebe\, a 7 de Abril\, pelas 21h15\, um Concerto de Páscoa. \nA organização é do CONVOCA\, Lda. – Conservatório de Voz\, Comunicação e Artes Performativas do Porto (Vocare)  e conta com o apoio da Câmara Municipal de Paredes. A entrada é gratuita. \nA celebração da Páscoa é um momento único\, onde a música vocal passa por compositores\, como Mozart\, Händel\, Andrew Lloyd Webber (The Woman in White)\, Alan Menken (Pocahontas\, A Bela e o Monstro\, Corcunda de Notre Dame) e conta com a participação do Vocare Gospel Choir.
URL:https://www.verdadeiroolhar.pt/evento/concerto-pascoa-na-casa-da-cultura/
LOCATION:Casa da Cultura de Paredes\, Avenida da República\, Paredes\, 4580-193
CATEGORIES:Cultura
ATTACH;FMTTYPE=image/png:https://www.verdadeiroolhar.pt/wp-content/uploads/2017/03/CartazPascoaParedes_1_1024_2500.png
END:VEVENT
END:VCALENDAR