BEGIN:VCALENDAR
VERSION:2.0
PRODID:-//Verdadeiro Olhar - ECPv5.8.0//NONSGML v1.0//EN
CALSCALE:GREGORIAN
METHOD:PUBLISH
X-WR-CALNAME:Verdadeiro Olhar
X-ORIGINAL-URL:https://www.verdadeiroolhar.pt
X-WR-CALDESC:Events for Verdadeiro Olhar
BEGIN:VTIMEZONE
TZID:UTC
BEGIN:STANDARD
TZOFFSETFROM:+0000
TZOFFSETTO:+0000
TZNAME:UTC
DTSTART:20180101T000000
END:STANDARD
END:VTIMEZONE
BEGIN:VEVENT
DTSTART;TZID=UTC:20180106T210000
DTEND;TZID=UTC:20180106T223000
DTSTAMP:20260423T001154
CREATED:20171222T112917Z
LAST-MODIFIED:20171222T112917Z
UID:32787-1515272400-1515277800@www.verdadeiroolhar.pt
SUMMARY:Concerto de Natal no Mosteiro de Ferreira
DESCRIPTION:O Mosteiro de São Pedro de Ferreira\, monumento integrado na Rota do Românico\, vai acolher um concerto de Natal\, no dia 6 de Janeiro\, às 21h00\, protagonizado pelo ensemble Origo. A entrada é livre. \n\nSob o título “Gaudete Christus est Natus”\, o lusitano ensemble vocal feminino Origo propõe-se a dar um sopro de vida\, num estilo muito próprio de subtil modernidade a quatro vozes\, aos manuscritos de música antiga que o tempo não quer nem consegue apagar. \n\nPrograma do concerto:\nCoventry Carol – Medieval (s.d.)\nGaudete Christus est Natus – Anónima séc. XVI\nFit porta Christi previa – Anónima Medieval palavras de St. Ambrose (339-97)\nDown in yon forest – Anónima (s.d.)\nO Magnum Mysterium – Tomás Luis de Victória (1549-1611)\nLullay\, Lullay als I lay on Yoolis Night – Anónima séc. XIV\nVox in Ramah – Jacobus Clemens (1510-1557)\nThere is no rose of swych vertu – Anónima (1420)\nO nata lux de lumine – Thomas Tallis (Manuscrito original – anónima séc. X)\nNatus est Nobis – Jacob Handl (1550-1591)\nAngelus ad Virginem – Anónima séc. XIII – XIV\nA solis ortus – Gilles Binchois (1400-1460) \nA organização deste concerto está a cargo da Patrium – Associação de Defesa e Divulgação do Património\, com a parceria da Rota do Românico\, Câmara Municipal de Paços de Ferreira\, entre outras entidades.
URL:https://www.verdadeiroolhar.pt/evento/concerto-natal-no-mosteiro-ferreira/
LOCATION:Mosteiro de Ferreira\, Paços de Ferreira
CATEGORIES:Cultura
ATTACH;FMTTYPE=image/jpeg:https://www.verdadeiroolhar.pt/wp-content/uploads/2017/12/Origo.jpg
END:VEVENT
END:VCALENDAR