BEGIN:VCALENDAR
VERSION:2.0
PRODID:-//Verdadeiro Olhar - ECPv5.8.0//NONSGML v1.0//EN
CALSCALE:GREGORIAN
METHOD:PUBLISH
X-WR-CALNAME:Verdadeiro Olhar
X-ORIGINAL-URL:https://www.verdadeiroolhar.pt
X-WR-CALDESC:Events for Verdadeiro Olhar
BEGIN:VTIMEZONE
TZID:UTC
BEGIN:STANDARD
TZOFFSETFROM:+0000
TZOFFSETTO:+0000
TZNAME:UTC
DTSTART:20160101T000000
END:STANDARD
END:VTIMEZONE
BEGIN:VEVENT
DTSTART;TZID=UTC:20160109T213000
DTEND;TZID=UTC:20160109T230000
DTSTAMP:20260425T154851
CREATED:20160107T151151Z
LAST-MODIFIED:20160107T151151Z
UID:3499-1452375000-1452380400@www.verdadeiroolhar.pt
SUMMARY:Concerto dos Reis no Museu Municipal de Penafiel
DESCRIPTION:O Museu Municipal e a Escola de Música Sólido vão dinamizar no próximo dia 9 de Janeiro\, às 21h30\, no Museu Municipal de Penafiel\, o “Concerto dos Reis”\, sob a direcção de Tobias Carvalho\, fundador da Escola de Música Sólido\, em Paredes\, e com a participação especial da Orquestra Juvenil de Paredes e do Grupo Litúrgico de Penafiel.
URL:https://www.verdadeiroolhar.pt/evento/concerto-dos-reis-no-museu-municipal-de-penafiel/
LOCATION:Museu Municipal de Penafiel\, R. do Paço\, Penafiel\, 4560-485\, Portugal
CATEGORIES:Cultura
ATTACH;FMTTYPE=image/jpeg:https://www.verdadeiroolhar.pt/wp-content/uploads/2016/01/Concerto_Reis_Museu.jpg
END:VEVENT
END:VCALENDAR