BEGIN:VCALENDAR
VERSION:2.0
PRODID:-//Verdadeiro Olhar - ECPv5.8.0//NONSGML v1.0//EN
CALSCALE:GREGORIAN
METHOD:PUBLISH
X-WR-CALNAME:Verdadeiro Olhar
X-ORIGINAL-URL:https://www.verdadeiroolhar.pt
X-WR-CALDESC:Events for Verdadeiro Olhar
BEGIN:VTIMEZONE
TZID:UTC
BEGIN:STANDARD
TZOFFSETFROM:+0000
TZOFFSETTO:+0000
TZNAME:UTC
DTSTART:20160101T000000
END:STANDARD
END:VTIMEZONE
BEGIN:VEVENT
DTSTART;TZID=UTC:20160701T220000
DTEND;TZID=UTC:20160701T230000
DTSTAMP:20260422T051859
CREATED:20160630T175018Z
LAST-MODIFIED:20160630T175018Z
UID:10859-1467410400-1467414000@www.verdadeiroolhar.pt
SUMMARY:Concerto Banda Musical de Rio Mau em Penafiel
DESCRIPTION:No dia 1 de Julho\, às 22h00 o Largo da Ajuda\, Penafiel\, vai receber o concerto “Freedom of a Smooth Criminal”\, Michael Jackson Memorial\, da Banda Musical de Rio Mau. \nEsta iniciativa insere-se no programa “Sentir o Verão” promovido pela Câmara Municipal de Penafiel.
URL:https://www.verdadeiroolhar.pt/evento/concerto-banda-musical-rio-mau-penafiel/
LOCATION:Largo d’ Ajuda\,  Largo Nossa Sra. Ajuda\, 4560 Penafiel\, Penafiel\, 4560\, Portugal
CATEGORIES:Eventos Públicos
ATTACH;FMTTYPE=image/jpeg:https://www.verdadeiroolhar.pt/wp-content/uploads/2016/06/LargoAjuda.jpg
END:VEVENT
END:VCALENDAR