BEGIN:VCALENDAR
VERSION:2.0
PRODID:-//Verdadeiro Olhar - ECPv5.8.0//NONSGML v1.0//EN
CALSCALE:GREGORIAN
METHOD:PUBLISH
X-WR-CALNAME:Verdadeiro Olhar
X-ORIGINAL-URL:https://www.verdadeiroolhar.pt
X-WR-CALDESC:Events for Verdadeiro Olhar
BEGIN:VTIMEZONE
TZID:UTC
BEGIN:STANDARD
TZOFFSETFROM:+0000
TZOFFSETTO:+0000
TZNAME:UTC
DTSTART:20160101T000000
END:STANDARD
END:VTIMEZONE
BEGIN:VEVENT
DTSTART;TZID=UTC:20160805T220000
DTEND;TZID=UTC:20160806T060000
DTSTAMP:20260423T093722
CREATED:20160729T115534Z
LAST-MODIFIED:20160729T131533Z
UID:11952-1470434400-1470463200@www.verdadeiroolhar.pt
SUMMARY:Citânia Summer Fest a 5 e 6 de Agosto
DESCRIPTION:O parque exterior do Shopping Ferrara Plaza\, em Paços de Ferreira\, recebe\, a 5 e 6 de Agosto mais uma edição do Citânia Summer Fest. \nSexta-feira – 5 de Agosto\n• Vinai\n• Allen Halloween\n• Fauvrelle • Strings Records\n• Steve Parker\n• Tiger Lewis\n• Bruno r \nSábado – 6 de Agosto \n• Borgore\n• Olga Ryazanova\n• Piruka\n• Bispo\n• Fragz\nMigdrum \nBilhetes:\nPasse geral para 2 dias – 15€\nBilhete diário – 10€\nZona vip – 40€ ( parque privativo\, 2 bebidas brancas\, buffet volante ) \nPodem ser adquiridos em www.ticketline.pt
URL:https://www.verdadeiroolhar.pt/evento/citania-summer-fest-5-6-agosto/
LOCATION:Ferrara Plaza\, Paços de Ferreira
CATEGORIES:Cultura
ATTACH;FMTTYPE=image/jpeg:https://www.verdadeiroolhar.pt/wp-content/uploads/2016/07/13707726_1223407384344893_2555545207112044754_n.jpg
END:VEVENT
END:VCALENDAR