BEGIN:VCALENDAR
VERSION:2.0
PRODID:-//Verdadeiro Olhar - ECPv5.8.0//NONSGML v1.0//EN
CALSCALE:GREGORIAN
METHOD:PUBLISH
X-WR-CALNAME:Verdadeiro Olhar
X-ORIGINAL-URL:https://www.verdadeiroolhar.pt
X-WR-CALDESC:Events for Verdadeiro Olhar
BEGIN:VTIMEZONE
TZID:UTC
BEGIN:STANDARD
TZOFFSETFROM:+0000
TZOFFSETTO:+0000
TZNAME:UTC
DTSTART:20250101T000000
END:STANDARD
END:VTIMEZONE
BEGIN:VEVENT
DTSTART;VALUE=DATE:20250918
DTEND;VALUE=DATE:20250925
DTSTAMP:20260421T080831
CREATED:20250916T161631Z
LAST-MODIFIED:20250916T161631Z
UID:185998-1758153600-1758758399@www.verdadeiroolhar.pt
SUMMARY:Cinemax Penafiel
DESCRIPTION:Programação de 18 a 24 de Setembro: \nFILME: A Grande Viagem 3 VP\nSESSÕES: 11h00 (SÁBADO E DOMINGO) – 13h00 (SÁBADO E DOMINGO) \nFILME: A Corrida Mais Louca Da Europa\nSESSÕES: 11H00 (SÁBADO E DOMINGO) – 14h40 \nFILME: UMA GRANDE\, CORAJOSA E BELA VIAGEM  – ESTREIA E DESTAQUE DA\nSEMANA\nSESSÕES: 14h30 – 16h45 (SEGUNDA A SEXTA) – 19H10 \nFILME: Os Mauzões VP\nSESSÕES: 16H45 (SÁBADO E DOMINGO) – 19H30 \nFILME: Demon Slayer: Kimetsu No Yaiba – Castelo Infinito\nSESSÕES: 11H00 (SÁBADO E DOMINGO) – 18H50 – 21H25 \nFILME: O Maior – ESTREIA E DESTAQUE DA SEMANA\nSESSÕES: 21h45 – 00h00 (SEXTA E SÁBADO) \nFILME: THE CONJURING 4: EXTREMA-UNÇÃO\nSESSÕES: 14H40 – 16H45 – 21H30 – 00H10 (SEXTA E SÁBADO) \nFILME: Casal (IM)PERFEITO\nSESSÕES: 17H20 \nFILME: THE LONG WALK: O DESAFIO\nSESSÕES: 00H20 (SEXTA E SÁBADO)
URL:https://www.verdadeiroolhar.pt/evento/cinemax-penafiel-82/
LOCATION:cinemax
CATEGORIES:Cultura
ATTACH;FMTTYPE=image/jpeg:https://www.verdadeiroolhar.pt/wp-content/uploads/2017/11/Cinemax.jpg
END:VEVENT
END:VCALENDAR