BEGIN:VCALENDAR
VERSION:2.0
PRODID:-//Verdadeiro Olhar - ECPv5.8.0//NONSGML v1.0//EN
CALSCALE:GREGORIAN
METHOD:PUBLISH
X-WR-CALNAME:Verdadeiro Olhar
X-ORIGINAL-URL:https://www.verdadeiroolhar.pt
X-WR-CALDESC:Events for Verdadeiro Olhar
BEGIN:VTIMEZONE
TZID:UTC
BEGIN:STANDARD
TZOFFSETFROM:+0000
TZOFFSETTO:+0000
TZNAME:UTC
DTSTART:20150101T000000
END:STANDARD
END:VTIMEZONE
BEGIN:VEVENT
DTSTART;TZID=UTC:20151125T143000
DTEND;TZID=UTC:20151125T160000
DTSTAMP:20260421T171258
CREATED:20151109T160725Z
LAST-MODIFIED:20151109T160725Z
UID:1766-1448461800-1448467200@www.verdadeiroolhar.pt
SUMMARY:Cinema de Animação: "Gladiadores"
DESCRIPTION:Duração: 90 minutos \nVersão: falado em português \nActividade sujeita a marcação prévia.
URL:https://www.verdadeiroolhar.pt/evento/cinema-de-animacao-gladiadores/
LOCATION:Biblioteca Municipal de Penafiel\, Avenida Egas Moniz\, Penafiel\, Portugal
CATEGORIES:Cultura
END:VEVENT
END:VCALENDAR